BEGIN:VCALENDAR
VERSION:2.0
PRODID:-//ChamberMaster//Event Calendar 2.0//EN
METHOD:PUBLISH
X-PUBLISHED-TTL:P3D
REFRESH-INTERVAL:P3D
CALSCALE:GREGORIAN
BEGIN:VEVENT
DTSTART:20170816T020000Z
DTEND:20170816T030000Z
X-MICROSOFT-CDO-ALLDAYEVENT:FALSE
SUMMARY:Free Workshop- College Planning 103 - Financial Aid\, FAFSA\, and CSS Profile
DESCRIPTION:Seating is limited and we will begin at 7PM Sharp\, so be sure to arrive early!\n\n\n\nLearn more about us here: Outreach Video Confused\, Concerned\, Feeling Overwhelmed?\n\n\n\nThis Workshop is guaranteed to get you on the fast track to college success! College Planning Expert Kevin Campbell has been a featured guest contributor on US News and College Report\, CBS\, ABC\, Radio\, TV and other media regarding his college planning techniques that he has taught thousands of families.\n\n\n\nHere is what you will learn : College Planning 103 - Financial Aid\, FAFSA\, and CSS Profile: Understanding Financial Aid Types of Aid Most common errors on FAFSA What is PPY and why is it important? When to and how to file What counts and what does not? What if I am divorced\, remarried etc? And much\, much more!\n\n\n\nThis is not the same content you will get at a school sponsored FAFSA night! Say goodbye to college funding stress and join us for this free event: Who is this event for? Parents of college bound high school students that are concerned about finding the right schools\, the right majors\, and finding the most tax efficient\, cash efficient and most optimized college funding strategies.\n\n\n\nIt is recommended that both parents attend. College doesn't sn't have to be a scary\, frustrating experience. Come find out how thousands of families have maximized their ROI on the college experience.\n\n\n\nRegister Now! (Attention parents\, it is NOT necessary to attend the series in order. All are welcome to hear this very important information at anytime.)\n\n\n\nhttps://www.eventbrite.com/e/free-college-financial-planning-103-workshop-financial-aid-fafsa-and-css-profile-tickets-36533751434
X-ALT-DESC;FMTTYPE=text/html:Seating is limited and we will begin at 7PM Sharp\, so be sure to arrive early!<br />\n<br />\nLearn more about us here: Outreach Video Confused\, Concerned\, Feeling Overwhelmed?<br />\n<br />\nThis Workshop is guaranteed to get you on the fast track to college success! College Planning Expert Kevin Campbell has been a featured guest contributor on US News and College Report\, CBS\, ABC\, Radio\, TV and other media regarding his college planning techniques that he has taught thousands of families.<br />\n<br />\nHere is what you will learn : College Planning 103 - Financial Aid\, FAFSA\, and CSS Profile: Understanding Financial Aid Types of Aid Most common errors on FAFSA What is PPY and why is it important? When to and how to file What counts and what does not? What if I am divorced\, remarried etc? And much\, much more!<br />\n<br />\nThis is not the same content you will get at a school sponsored FAFSA night! Say goodbye to college funding stress and join us for this free event: Who is this event for? Parents of college bound high school students that are concerned about finding the right schools\, the right majors\, and finding the most tax efficient\, cash efficient and most optimized college funding strategies.<br />\n<br />\nIt is recommended that both parents attend. College doesn&#39\;t sn&#39\;t have to be a scary\, frustrating experience. Come find out how thousands of families have maximized their ROI on the college experience.<br />\n<br />\nRegister Now! (Attention parents\, it is NOT necessary to attend the series in order. All are welcome to hear this very important information at anytime.)<br />\n<br />\nhttps://www.eventbrite.com/e/free-college-financial-planning-103-workshop-financial-aid-fafsa-and-css-profile-tickets-36533751434
LOCATION:Woodmount Library (Des Moines) 26809 Pacific Hwy S. Des Moines \, WA 98198
UID:e.2591.860
SEQUENCE:3
DTSTAMP:20260425T182859Z
URL:http://seattlesouthsidechamber.com/events/details/free-workshop-college-planning-103-financial-aid-fafsa-and-css-profile-860
END:VEVENT

END:VCALENDAR
