BEGIN:VCALENDAR
VERSION:2.0
PRODID:-//ChamberMaster//Event Calendar 2.0//EN
METHOD:PUBLISH
X-PUBLISHED-TTL:P3D
REFRESH-INTERVAL:P3D
CALSCALE:GREGORIAN
BEGIN:VEVENT
DTSTART:20190329T230000Z
DTEND:20190330T020000Z
X-MICROSOFT-CDO-ALLDAYEVENT:FALSE
SUMMARY:FREE Movie Night (Hidden Figures)
DESCRIPTION:Join Tukwila Parks and Recreation and Foster High School for a free viewing of Hidden Figures! There will be free popcorn\, and attendees will be entered into a free raffle for a $25 gift card (must be present to win). Reception will begin at 4pm\, with the movie viewing at 5pm.
X-ALT-DESC;FMTTYPE=text/html:Join Tukwila Parks and Recreation and Foster High School for a free viewing of Hidden Figures! There will be free popcorn\, and attendees will be entered into a free raffle for a $25 gift card (must be present to win). Reception will begin at 4pm\, with the movie viewing at 5pm.
LOCATION:Foster High School Performing Arts Center South 144th Street\, Tukwila\, WA
UID:e.2591.2859
SEQUENCE:3
DTSTAMP:20260424T122726Z
URL:http://seattlesouthsidechamber.com/events/details/free-movie-night-hidden-figures-2859
END:VEVENT

END:VCALENDAR
