BEGIN:VCALENDAR
VERSION:2.0
PRODID:-//ChamberMaster//Event Calendar 2.0//EN
METHOD:PUBLISH
X-PUBLISHED-TTL:P3D
REFRESH-INTERVAL:P3D
CALSCALE:GREGORIAN
BEGIN:VEVENT
DTSTART;VALUE=DATE:20181114
DTEND;VALUE=DATE:20181119
TRANSP:TRANSPARENT
X-MICROSOFT-CDO-ALLDAYEVENT:TRUE
SUMMARY:Fred Meyer Holiday Savings Bonus- Every purchase adds up
DESCRIPTION:Now through Sunday\, Nov. 18\, every purchase you make can add up to a bigger Holiday Savings Bonus. 20%\,30% or 40% off?\n\nRedeem your Bonus Saturday\, Nov. 24 through Tuesday\, Nov. 27 on an Apparel & Home purchase.
X-ALT-DESC;FMTTYPE=text/html:<span style="color:#58585B\;"><span style="font-family:arial\,sans-serif\;"><span style="font-size:12.0pt\;">Now through Sunday\, Nov. 18\, every purchase you make can add up to a bigger Holiday Savings Bonus. 20%\,30% or 40% off?<br />\nRedeem your Bonus Saturday\, Nov. 24 through Tuesday\, Nov. 27 on an Apparel &amp\; Home purchase.</span></span></span>
LOCATION:Fred Meyer Stores
UID:e.2591.2620
SEQUENCE:3
DTSTAMP:20260424T190227Z
URL:http://seattlesouthsidechamber.com/events/details/fred-meyer-holiday-savings-bonus-every-purchase-adds-up-2620
END:VEVENT

END:VCALENDAR
