BEGIN:VCALENDAR
VERSION:2.0
PRODID:-//ChamberMaster//Event Calendar 2.0//EN
METHOD:PUBLISH
X-PUBLISHED-TTL:P3D
REFRESH-INTERVAL:P3D
CALSCALE:GREGORIAN
BEGIN:VEVENT
DTSTART;VALUE=DATE:20181005
DTEND;VALUE=DATE:20181029
TRANSP:TRANSPARENT
X-MICROSOFT-CDO-ALLDAYEVENT:TRUE
SUMMARY:Frankenstein-Burien Actors Theatre
DESCRIPTION:This is not your father's Frankenstein. In this startlingly fresh\, lyrical and haunting contemporary adaptation of Mary Shelley's classic novel\, Dr. Frankenstein is reimagined as a woman. Victoria Frankenstein and her articulate Creature tell a thought-provoking story that follows Mary Shelley's book more closely than other productions\, but with wonderful new twists and an exploration of what happens when we don't try to understand "the other" and what happens when we do. This is just the second US production of Dr. Frankenstein.
X-ALT-DESC;FMTTYPE=text/html:<span style="font-family: &quot\;Segoe UI&quot\;\, Arial\, Helvetica\, sans-serif\; font-size: 18.6667px\;">This is not your father&rsquo\;s&nbsp\;Frankenstein.&nbsp\;In this startlingly fresh\, lyrical and haunting contemporary adaptation of Mary Shelley&#39\;s classic novel\, Dr. Frankenstein is reimagined as a woman. Victoria Frankenstein and her articulate Creature tell a thought-provoking story that follows Mary Shelley&rsquo\;s book more closely than other productions\, but with wonderful new twists and an exploration of what happens when we don&rsquo\;t try to understand &ldquo\;the other&rdquo\;&mdash\;and what happens when we do. This is just the second US production of&nbsp\;Dr. Frankenstein.</span>
LOCATION:Burien Actors Theatre 14501 4th Ave SW\, Seattle\, WA 98166 (206) 242-5180
UID:e.2591.2561
SEQUENCE:3
DTSTAMP:20260424T203030Z
URL:http://seattlesouthsidechamber.com/events/details/frankenstein-burien-actors-theatre-2561
END:VEVENT

END:VCALENDAR
