BEGIN:VCALENDAR
VERSION:2.0
PRODID:-//ChamberMaster//Event Calendar 2.0//EN
METHOD:PUBLISH
X-PUBLISHED-TTL:P3D
REFRESH-INTERVAL:P3D
CALSCALE:GREGORIAN
BEGIN:VEVENT
DTSTART;VALUE=DATE:20180901
DTEND;VALUE=DATE:20181001
TRANSP:TRANSPARENT
X-MICROSOFT-CDO-ALLDAYEVENT:TRUE
SUMMARY:Food Barrel Drive-Still Waters
DESCRIPTION:Let No Child Go Hungry in Tukwila!\n\nThe Tukwila Weekend SnackPack Program is looking for local businesses to provide a home for one of our food collection barrels.\n\nIf your business is interested in helping us feed hungry kiddos that are struggling with housing insecurity\, the business would agree to:\n\n1. Provide a space for a barrel and information board\, either to the public or to company personnel.\n\n2. Select a company employee who will advocate for food donations from staff and/or clientele.\n\n3. Give a company contact for coordinating donation pick up.
X-ALT-DESC;FMTTYPE=text/html:Let No Child Go Hungry in Tukwila!<br />\nThe Tukwila Weekend SnackPack Program is looking for local businesses to provide a home for one of our food collection barrels.<br />\nIf your business is interested in helping us feed hungry kiddos that are struggling with housing insecurity\, the business would agree to:<br />\n1. Provide a space for a barrel and information board\, either to the public or to company personnel.<br />\n2. Select a company employee who will advocate for food donations from staff and/or clientele.<br />\n3. Give a company contact for coordinating donation pick up.
LOCATION:Your place of business
UID:e.2591.2488
SEQUENCE:3
DTSTAMP:20260424T203756Z
URL:http://seattlesouthsidechamber.com/events/details/food-barrel-drive-still-waters-2488
END:VEVENT

END:VCALENDAR
