BEGIN:VCALENDAR
VERSION:2.0
PRODID:-//ChamberMaster//Event Calendar 2.0//EN
METHOD:PUBLISH
X-PUBLISHED-TTL:P3D
REFRESH-INTERVAL:P3D
CALSCALE:GREGORIAN
BEGIN:VEVENT
DTSTART:20250426T160000Z
DTEND:20250426T190000Z
X-MICROSOFT-CDO-ALLDAYEVENT:FALSE
SUMMARY:FinFit Life Annual 5K Walk\, Run\, Fun
DESCRIPTION:Join us on our FinFit Life Annual 5K Walk\, Run\, Fun
X-ALT-DESC;FMTTYPE=text/html:Join us on our FinFit Life Annual 5K Walk\, Run\, Fun
LOCATION:Seward Park\, Seattle
UID:e.2591.7170
SEQUENCE:3
DTSTAMP:20260421T161338Z
URL:http://seattlesouthsidechamber.com/events/details/finfit-life-annual-5k-walk-run-fun-7170
END:VEVENT

END:VCALENDAR
