BEGIN:VCALENDAR
VERSION:2.0
PRODID:-//ChamberMaster//Event Calendar 2.0//EN
METHOD:PUBLISH
X-PUBLISHED-TTL:P3D
REFRESH-INTERVAL:P3D
CALSCALE:GREGORIAN
BEGIN:VEVENT
DTSTART;VALUE=DATE:20181008
DTEND;VALUE=DATE:20181027
TRANSP:TRANSPARENT
X-MICROSOFT-CDO-ALLDAYEVENT:TRUE
SUMMARY:Fine Art Exhibit-City of SeaTac
DESCRIPTION:The City of SeaTac is presenting this exhibit to show quality artwork of regional artists and to purchase work for their permanent collection.  To be eligible for an Art Purchase Award\, a piece must be for sale at a price not to exceed $750.  All photos submitted must be for sale.\nRegistration takes place at SeaTac Community Center on Thursday\, October 4 from 10 AM-6 PM.
X-ALT-DESC;FMTTYPE=text/html:The City of SeaTac is presenting this exhibit to show quality artwork of regional artists and to purchase work for their permanent collection.&nbsp\; To be eligible for an Art Purchase Award\, a piece must be for sale at a price not to exceed $750.&nbsp\; All photos submitted must be for sale.\n<p>Registration takes place at SeaTac Community Center on Thursday\, October 4 from 10 AM-6 PM.</p>\n
LOCATION:SeaTac Community Center 13735 24th Avenue South\, SeaTac
UID:e.2591.2486
SEQUENCE:3
DTSTAMP:20260424T185738Z
URL:http://seattlesouthsidechamber.com/events/details/fine-art-exhibit-city-of-seatac-2486
END:VEVENT

END:VCALENDAR
