BEGIN:VCALENDAR
VERSION:2.0
PRODID:-//ChamberMaster//Event Calendar 2.0//EN
METHOD:PUBLISH
X-PUBLISHED-TTL:P3D
REFRESH-INTERVAL:P3D
CALSCALE:GREGORIAN
BEGIN:VEVENT
DTSTART:20180503T010000Z
DTEND:20180503T023000Z
X-MICROSOFT-CDO-ALLDAYEVENT:FALSE
SUMMARY:Financing for Growth through Global Business Expansion
DESCRIPTION:As with any growth plan\, expanding internationally requires financing. Growing globally requires special capabilities when it comes to finances. Understand financial opportunities and success strategies by learning how to tap into government and private sources of financing and figuring out ways to make sure you are getting paid. While financing is always an issue\, government interest in boosting exporting and recent financial innovations have made getting funding and getting paid easier than ever. One of the most popular sources of financing for businesses expansion overseas is the Export-Import Bank of the United States.
X-ALT-DESC;FMTTYPE=text/html:As with any growth plan\, expanding internationally requires financing. Growing globally requires special capabilities when it comes to finances. Understand financial opportunities and success strategies by learning how to tap into government and private sources of financing and figuring out ways to make sure you are getting paid. While financing is always an issue\, government interest in boosting exporting and recent financial innovations have made getting funding and getting paid easier than ever. One of the most popular sources of financing for businesses expansion overseas is the Export-Import Bank of the United States.
LOCATION:
UID:e.2591.2107
SEQUENCE:3
DTSTAMP:20260425T033033Z
URL:http://seattlesouthsidechamber.com/events/details/financing-for-growth-through-global-business-expansion-2107
END:VEVENT

END:VCALENDAR
