BEGIN:VCALENDAR
VERSION:2.0
PRODID:-//ChamberMaster//Event Calendar 2.0//EN
METHOD:PUBLISH
X-PUBLISHED-TTL:P3D
REFRESH-INTERVAL:P3D
CALSCALE:GREGORIAN
BEGIN:VEVENT
DTSTART:20181215T210000Z
DTEND:20181215T230000Z
X-MICROSOFT-CDO-ALLDAYEVENT:FALSE
SUMMARY:Fiesta Party at the Tukwila Pool
DESCRIPTION:Winter Fiesta Party at the Tukwila Pool\n\nEvery 3rd Saturday of the month is party time at the Tukwila Pool. Bring the family for games\, costumes and treats.
X-ALT-DESC;FMTTYPE=text/html:Winter Fiesta Party at the Tukwila Pool<br />\nEvery 3rd Saturday of the month is party time at the Tukwila Pool. Bring the family for games\, costumes and treats.
LOCATION:Tukwila Pool 4414 S 144th St Tukwila WA 98168
UID:e.2591.2618
SEQUENCE:3
DTSTAMP:20260424T160239Z
URL:http://seattlesouthsidechamber.com/events/details/fiesta-party-at-the-tukwila-pool-2618
END:VEVENT

END:VCALENDAR
