BEGIN:VCALENDAR
VERSION:2.0
PRODID:-//ChamberMaster//Event Calendar 2.0//EN
METHOD:PUBLISH
X-PUBLISHED-TTL:P3D
REFRESH-INTERVAL:P3D
CALSCALE:GREGORIAN
BEGIN:VEVENT
DTSTART:20181027T170000Z
DTEND:20181027T210000Z
X-MICROSOFT-CDO-ALLDAYEVENT:FALSE
SUMMARY:Fear on the Pier at the MaST Aquarium Redondo Beach
DESCRIPTION:Visit the MaST Aquarium a Redondo for a Halloween-themed Discovery Day event featuring creepy and cool critters of Puget Sound\, skeletons\, slime and more!\n\nUnderwater pumpkin carving\, hosted by Underwater Sports\, will begin at 1 p.m. Visitors will be able to watch the carving live on big screen TVs. Marine-themed costumes encouraged.
X-ALT-DESC;FMTTYPE=text/html:<p style="box-sizing: border-box\; margin: 0px\; padding: 0px\; font-family: Neuton\, sans-serif\; font-size: 15px\; line-height: 1.5\; text-rendering: optimizelegibility\; border: 0px\; border-radius: 0px\; background-image: none\; background-position: initial\; background-size: initial\; background-repeat: initial\; background-attachment: initial\; background-origin: initial\; background-clip: initial\; letter-spacing: 0.16px\; color: rgb(77\, 77\, 77)\;">Visit the MaST Aquarium a Redondo for a Halloween-themed Discovery Day event featuring creepy and cool critters of Puget Sound\, skeletons\, slime and more!</p>\n\n<p style="box-sizing: border-box\; margin: 0px\; padding: 0px\; font-family: Neuton\, sans-serif\; font-size: 15px\; line-height: 1.5\; text-rendering: optimizelegibility\; border: 0px\; border-radius: 0px\; background-image: none\; background-position: initial\; background-size: initial\; background-repeat: initial\; background-attachment: initial\; background-origin: initial\; background-clip: initial\; letter-spacing: 0.16px\; color: rgb(77\, 77\, 77)\;">Underwater pumpkin carving\, hosted by Underwater Sports\, will begin at&nbsp\;1 p.m.&nbsp\;Visitors will be able to watch the carving live on big screen TVs. Marine-themed costumes encouraged.</p>\n
LOCATION:MaST - Marine Science and Technology Center 28203 Redondo Beach Dr. S.\, Des Moines\, WA 98198
UID:e.2591.2596
SEQUENCE:3
DTSTAMP:20260424T185544Z
URL:http://seattlesouthsidechamber.com/events/details/fear-on-the-pier-at-the-mast-aquarium-redondo-beach-2596
END:VEVENT

END:VCALENDAR
