BEGIN:VCALENDAR
VERSION:2.0
PRODID:-//ChamberMaster//Event Calendar 2.0//EN
METHOD:PUBLISH
X-PUBLISHED-TTL:P3D
REFRESH-INTERVAL:P3D
CALSCALE:GREGORIAN
BEGIN:VEVENT
DTSTART:20180804T023000Z
DTEND:20180804T043000Z
X-MICROSOFT-CDO-ALLDAYEVENT:FALSE
SUMMARY:Family Outdoor Movie & Music
DESCRIPTION:Grab blankets and lawn chairs for a family concert and move night under the stars! Located at the Tukwila Community Center\, this event will feature the music of Mariachi Fiesta Mexicana beginning at 7:30pm\, as well as Pixar's Coco at dusk.
X-ALT-DESC;FMTTYPE=text/html:Grab blankets and lawn chairs for a family concert and move night under the stars! Located at the Tukwila Community Center\, this event will feature the music of Mariachi Fiesta Mexicana beginning at 7:30pm\, as well as Pixar&#39\;s Coco at dusk.&nbsp\;
LOCATION:Tukwila Community Center\, 12424 42nd Ave S Tukwila
UID:e.2591.2148
SEQUENCE:3
DTSTAMP:20260424T221915Z
URL:http://seattlesouthsidechamber.com/events/details/family-outdoor-movie-music-2148
END:VEVENT

END:VCALENDAR
