BEGIN:VCALENDAR
VERSION:2.0
PRODID:-//ChamberMaster//Event Calendar 2.0//EN
METHOD:PUBLISH
X-PUBLISHED-TTL:P3D
REFRESH-INTERVAL:P3D
CALSCALE:GREGORIAN
BEGIN:VEVENT
DTSTART:20181013T160000Z
DTEND:20181013T180000Z
X-MICROSOFT-CDO-ALLDAYEVENT:FALSE
SUMMARY:Engaging Trees Speaker Series #2-A Natural and Cultural History Hike Through Trees
DESCRIPTION:Jim Demetre\, local writer and tree enthusiast\, will be leading a public tour along Des Moines Creek to the shore of Puget Sound. Through his observations\, he hopes to link the natural and cultural history of Washington's "Waterland City." Spanish language interpretation available.
X-ALT-DESC;FMTTYPE=text/html:<span style="color: rgb(102\, 102\, 102)\; font-family: &quot\;Open Sans&quot\;\, Arial\, sans-serif\; font-size: 15px\;">Jim Demetre\, local writer and tree enthusiast\, will be leading a public tour along Des Moines Creek to the shore of Puget Sound. Through his observations\, he hopes to link the natural and cultural history of Washington&rsquo\;s &ldquo\;Waterland City.&rdquo\; Spanish language interpretation available.</span>
LOCATION:Meet at the Des Moines Creek Trailhead\, 2151 S 200th Street\, SeaTac (Overflow parking is available at the Angle Lake Light Rail Station Garage.)
UID:e.2591.2559
SEQUENCE:3
DTSTAMP:20260424T203116Z
URL:http://seattlesouthsidechamber.com/events/details/engaging-trees-speaker-series-2-a-natural-and-cultural-history-hike-through-trees-2559
END:VEVENT

END:VCALENDAR
