BEGIN:VCALENDAR
VERSION:2.0
PRODID:-//ChamberMaster//Event Calendar 2.0//EN
METHOD:PUBLISH
X-PUBLISHED-TTL:P3D
REFRESH-INTERVAL:P3D
CALSCALE:GREGORIAN
BEGIN:VEVENT
DTSTART:20180609T014500Z
DTEND:20180609T030000Z
X-MICROSOFT-CDO-ALLDAYEVENT:FALSE
SUMMARY:End of the School Year Celebration
DESCRIPTION:Please join us for the final Family Night service of the season as we kick off summer! We'll be celebrating the end of the school year with a BBQ!
X-ALT-DESC;FMTTYPE=text/html:Please join us for the final Family Night service of the season as we kick off summer! We&#39\;ll be celebrating the end of the school year with a BBQ!
LOCATION:Angle Lake Neighborhood Church 18617 42nd Ave. S. SeaTac\, WA 98188
UID:e.2591.2121
SEQUENCE:3
DTSTAMP:20260425T012600Z
URL:http://seattlesouthsidechamber.com/events/details/end-of-the-school-year-celebration-2121
END:VEVENT

END:VCALENDAR
