BEGIN:VCALENDAR
VERSION:2.0
PRODID:-//ChamberMaster//Event Calendar 2.0//EN
METHOD:PUBLISH
X-PUBLISHED-TTL:P3D
REFRESH-INTERVAL:P3D
CALSCALE:GREGORIAN
BEGIN:VEVENT
DTSTART:20190207T010000Z
DTEND:20190207T050000Z
X-MICROSOFT-CDO-ALLDAYEVENT:FALSE
SUMMARY:Emergency Preparedness Event - What You Need to Know to Survive a Major Natural Disaster
DESCRIPTION:Join us for an emergency management evening public presentation\, hosted by the City of Normandy Park and the Seattle Southside Chamber of Commerce\, on Wednesday\, February 6\, 2019\, 5:00 P.M.\, in the main auditorium at the Criminal Justice Training Center. \n\n\n"What You Need to Know to Survive a Natural Disaster" will be the topic. Col. Kevin McMahan and staff from Camp Murray\, Washington State Emergency Management\, will provide the presentation. Camp Murray operations coordinate Washington State natural disaster services and resources. \n\n \n\nResidents and business owners from the cities of Des Moines\, SeaTac\, Burien\, Tukwila\, and Federal Way\, as well as Seattle Southside Chamber members are invited to attend. The average cycle for the types of earthquakes that would are characterized as\, "the big one" is about 243 years\, using the last 10\,000 years as a measuring stick. We are beyond this average measure by 75 years. The chances of one of these earthquakes in the next 50 years is roughly between 10% and 33%. Such a quake is predicted to cause up to 30\,000 landslides in the Seattle area alone (Schulz\, Kathryn. "The Really Big One"\, The New Yorker 2015).
X-ALT-DESC;FMTTYPE=text/html:<span style="font-size:14px\;"><span style="font-family:arial\;">Join us for an emergency management evening public presentation\, hosted by the City of Normandy Park and the Seattle Southside Chamber of Commerce\, on Wednesday\, February 6\, 2019\, 5:00 P.M.\, in the main auditorium at the Criminal Justice Training Center.&nbsp\;</span></span>\n<div><br />\n<span style="font-size:14px\;"><span style="font-family:arial\;">&ldquo\;What You Need to Know to Survive a Natural Disaster&rdquo\; will be the topic. Col. Kevin McMahan and staff from Camp Murray\, Washington State Emergency Management\, will provide the presentation. Camp Murray operations coordinate Washington State natural disaster services and resources.&nbsp\;</span></span></div>\n\n<div>&nbsp\;</div>\n\n<div><span style="font-size:14px\;"><span style="font-family:arial\;">Residents and business owners from the cities of Des Moines\, SeaTac\, Burien\, Tukwila\, and Federal Way\, as well as&nbsp\;Seattle Southside Chamber members are invited&nbsp\;to attend. The average cycle for the types of earthquakes that would are&nbsp\;characterized as\, &ldquo\;the big one&rdquo\; is about 243 years\, using the last 10\,000 years as a measuring stick. We are beyond this average measure by 75 years. The chances of one of these earthquakes in the next 50 years is roughly between 10% and 33%. Such a quake is predicted to cause up to 30\,000 landslides in the Seattle area alone (Schulz\, Kathryn. &ldquo\;The Really Big&nbsp\;One&rdquo\;\, The New Yorker 2015).</span></span></div>\n
LOCATION:Criminal Justice Training Center 19010 1st Ave S Burien\, WA 98148
UID:e.2591.2656
SEQUENCE:3
DTSTAMP:20260424T095750Z
URL:http://seattlesouthsidechamber.com/events/details/emergency-preparedness-event-what-you-need-to-know-to-survive-a-major-natural-disaster-2656
END:VEVENT

END:VCALENDAR
