BEGIN:VCALENDAR
VERSION:2.0
PRODID:-//ChamberMaster//Event Calendar 2.0//EN
METHOD:PUBLISH
X-PUBLISHED-TTL:P3D
REFRESH-INTERVAL:P3D
CALSCALE:GREGORIAN
BEGIN:VEVENT
DTSTART:20180803T003000Z
DTEND:20180803T023000Z
X-MICROSOFT-CDO-ALLDAYEVENT:FALSE
SUMMARY:Elevate NW Series: Marketing Tips for Your Business
DESCRIPTION:Rethinking your marketing strategy? Join the Seattle Metro Chamber for their next Elevate NW Series event. Learn from local PR leaders from Edelman Public Relations\, C+C\, and Nyhus Communications\, and workshop your marketing questions.
X-ALT-DESC;FMTTYPE=text/html:Rethinking your marketing strategy? Join the Seattle Metro Chamber for their next Elevate NW Series event. Learn from local PR leaders from Edelman Public Relations\, C+C\, and Nyhus Communications\, and workshop your marketing questions.
LOCATION:Microsoft Events Center at teh Seattle Metro Chamber 1301 5th Ave\, Ste 1500\, Seattle\, WA 98101
UID:e.2591.2155
SEQUENCE:3
DTSTAMP:20260424T221114Z
URL:http://seattlesouthsidechamber.com/events/details/elevate-nw-series-marketing-tips-for-your-business-2155
END:VEVENT

END:VCALENDAR
