BEGIN:VCALENDAR
VERSION:2.0
PRODID:-//ChamberMaster//Event Calendar 2.0//EN
METHOD:PUBLISH
X-PUBLISHED-TTL:P3D
REFRESH-INTERVAL:P3D
CALSCALE:GREGORIAN
BEGIN:VEVENT
DTSTART:20190308T000000Z
DTEND:20190308T013000Z
X-MICROSOFT-CDO-ALLDAYEVENT:FALSE
SUMMARY:Elevate NW Series: How to Succeed in a Growing City
DESCRIPTION:With such development happening in our region\, how do small businesses keep pace? How do they take advantage of the ever-expanding opportunities? How do they deal with challenges like increasing rent and a changing marketplace? \n\nJoin us to find out as we hear from three long-standing small businesses. They'll share their story of evolving with the city\, pass along tips and tricks for staying relevant\, and offer insight into how they've made their business a success.  \n\nThis is a free\, after-hours event that includes sips and snacks\, time for networking\, breakout activities\, and an intimate panel discussion with local experts in a fun and relaxed atmosphere.
X-ALT-DESC;FMTTYPE=text/html:With such development happening in our region\, how do small businesses keep pace? How do they take advantage of the ever-expanding opportunities? How do they deal with challenges like increasing rent and a changing marketplace?&nbsp\;<br />\nJoin us to find out as we hear from three long-standing small businesses. They&rsquo\;ll share their story of evolving with the city\, pass along tips and tricks for staying relevant\, and offer insight into how they&rsquo\;ve made their business a success.&nbsp\;&nbsp\;<br />\nThis is a free\, after-hours event that includes sips and snacks\, time for networking\, breakout activities\, and an intimate panel discussion with local experts in a fun and relaxed atmosphere.
LOCATION:Seattle Metro Chamber-Microsoft Events Center 1301 Fifth Avenue\, Ste. 1500 Seattle\, WA
UID:e.2591.2806
SEQUENCE:3
DTSTAMP:20260424T080622Z
URL:http://seattlesouthsidechamber.com/events/details/elevate-nw-series-how-to-succeed-in-a-growing-city-2806
END:VEVENT

END:VCALENDAR
