BEGIN:VCALENDAR
VERSION:2.0
PRODID:-//ChamberMaster//Event Calendar 2.0//EN
METHOD:PUBLISH
X-PUBLISHED-TTL:P3D
REFRESH-INTERVAL:P3D
CALSCALE:GREGORIAN
BEGIN:VEVENT
DTSTART:20170922T003000Z
DTEND:20170922T030000Z
X-MICROSOFT-CDO-ALLDAYEVENT:FALSE
SUMMARY:Diversity & Inclusion Industry Panel and Resource Event: Apprenticeship Pathways to Construction Careers
DESCRIPTION:Diversity & Inclusion Industry Panel and Resource Event: Apprenticeship Pathways to Construction Careers\n\nWHEN: Thursday\, Sept 21\, 2017\n\nTIME: 5:30pm-8pm (free sandwiches served at 5:30pm)\n\nWHERE: Foster High School Auditorium\, 4242 S. 144th Street\, Tukwila\, WA\n\nEVENT PARKING: on the street or in school parking lot\n\nSPACE IS LIMITED: Register online @ www.diversityinconstruction.eventbrite.com \n\n \n\nFocus of Event\n\nAttendees will meet/hear directly from apprentices\, industry employers\, priority hire diversity programs\, and apprenticeship programs about exciting opportunities and resources for more Women\, People of Color\, and Youth to enter our local construction workforce through apprenticeship. This event in Tukwila is a partnership between community\, public\, and private sector organizations to bring more job training and resources for construction apprenticeship pathways to diverse and undeserved communities.\n\n \n\nConstruction Industry Employer Panel\n\n~ The Walsh Group\n\n~ PCL Construction\n\n~ Adept Mechanical Services\, Inc.\n\n~ King County Priority Hire program\n\n \n\nDiversity Panel of Apprentices/Journey Workers\n\n~ Iron Worker apprentice\n\n~ Electrical Worker apprentice\n\n~ Operating Engineer apprentice\n\n~ Seattle City Light Lineman journey worker\n\n \n\nParticipating Construction Trades Apprenticeships\, Training\, & Resource Providers:\n\n~ WA Building Trades Pre-Apprenticeship Construction Education (PACE)\n\n~ Seattle Vocational Institute Pre-Apprenticeship Construction Training (PACT)\n\n~ Apprenticeship & Non-Traditional Employment for Women (ANEW)\n\n~ YouthCare's YouthBuild\n\n~ Iron Workers Apprenticeship\n\n~ Puget Sound Electrical Apprenticeships\n\n~ Northwest Laborers Apprenticeships\n\n~ Northwest Carpenters Apprenticeships\n\n~ Operating Engineers Apprenticeships\n\n~ Seattle Area Pipe Trades Plumbers Apprenticeships\n\n~ Seattle City Light Apprenticeship\n\n~ Highline Schools Puget Sound Skills Center\n\n~ U.S. Dept. of Labor Women's Bureau\n\n~ Partner in Employment (PIE)\n\n \n\nEvent Planning Partners: \n\n~ City of Tukwila\n\n~ Tukwila School District\n\n~ King County\n\n~ Communities of Opportunity SeaTac/Tukwila\n\n~ WorkSource Seattle-King County\n\n~ Global 2 Local\n\n~ Partner In Employment (PIE)
X-ALT-DESC;FMTTYPE=text/html:<strong><u><span style="font-family:arial\,sans-serif\;"><span style="font-size:18.0pt\;">Diversity &amp\; Inclusion Industry Panel and Resource Event:<em> <span style="color:blue\;">Apprenticeship Pathways to Construction Careers</span></em></span></span></u></strong><br />\n<span style="font-family:arial\,sans-serif\;"><span style="font-size:12.0pt\;">WHEN: Thursday\, Sept 21\, 2017</span></span><br />\n<span style="font-family:arial\,sans-serif\;"><span style="font-size:12.0pt\;">TIME: 5:30pm-8pm (<strong><em>free sandwiches served at 5:30pm</em></strong>)</span></span><br />\n<span style="font-family:arial\,sans-serif\;"><span style="font-size:12.0pt\;">WHERE: <em><span style="font-style:normal\;">Foster High School Auditorium\, 4242 S. 144<sup>th</sup> Street\, Tukwila\, WA</span></em></span></span><br />\n<span style="font-family:arial\,sans-serif\;"><span style="font-size:12.0pt\;">EVENT PARKING: on the street or in school parking lot</span></span><br />\n<strong><span style="font-family:arial\,sans-serif\;"><span style="font-size:12.0pt\;">SPACE IS LIMITED: <span style="background:yellow\;">Register online @ <a href="http://www.diversityinconstruction.eventbrite.com">www.diversityinconstruction.eventbrite.com</a></span> </span></span></strong><br />\n&nbsp\;<br />\n<em><strong><span style="font-style:normal\;"><span style="font-family:arial\,sans-serif\;">Focus of Event</span></span></strong></em><br />\n<span style="font-family:arial\,sans-serif\;">Attendees will meet/hear directly from apprentices\, industry employers\, priority hire diversity programs\, and apprenticeship programs about exciting opportunities and resources for more Women\, People of Color\, and Youth to enter our local construction workforce through apprenticeship. This event in Tukwila is a partnership between community\, public\, and private sector organizations to bring more job training and resources for construction apprenticeship pathways to diverse and undeserved communities.</span><br />\n&nbsp\;<br />\n<strong><em><u><span style="color:black\;"><span style="font-family:arial\,sans-serif\;"><span style="font-size:12.0pt\;">Construction Industry Employer Panel</span></span></span></u></em></strong><br />\n<span style="color:black\;"><span style="font-family:arial\,sans-serif\;"><span style="font-size:12.0pt\;">~ The Walsh Group<br />\n~ PCL Construction</span></span></span><br />\n<span style="color:black\;"><span style="font-family:arial\,sans-serif\;"><span style="font-size:12.0pt\;">~ Adept Mechanical Services\, Inc.</span></span></span><br />\n<span style="color:black\;"><span style="font-family:arial\,sans-serif\;"><span style="font-size:12.0pt\;">~ King County Priority Hire program</span></span></span><br />\n&nbsp\;<br />\n<strong><em><u><span style="color:black\;"><span style="font-family:arial\,sans-serif\;"><span style="font-size:12.0pt\;">Diversity Panel of Apprentices/Journey Workers</span></span></span></u></em></strong><br />\n<span style="color:black\;"><span style="font-family:arial\,sans-serif\;"><span style="font-size:12.0pt\;">~ Iron Worker apprentice</span></span></span><br />\n<span style="color:black\;"><span style="font-family:arial\,sans-serif\;"><span style="font-size:12.0pt\;">~ Electrical Worker apprentice</span></span></span><br />\n<span style="color:black\;"><span style="font-family:arial\,sans-serif\;"><span style="font-size:12.0pt\;">~ Operating Engineer apprentice</span></span></span><br />\n<span style="color:black\;"><span style="font-family:arial\,sans-serif\;"><span style="font-size:12.0pt\;">~ Seattle City Light Lineman journey worker</span></span></span><br />\n&nbsp\;<br />\n<strong><em><u><span style="color:black\;"><span style="font-family:arial\,sans-serif\;"><span style="font-size:12.0pt\;">Participating Construction Trades Apprenticeships\, Training\, &amp\; Resource Providers:</span></span></span></u></em></strong><br />\n<span style="color:black\;"><span style="font-family:arial\,sans-serif\;"><span style="font-size:12.0pt\;">~ WA Building Trades Pre-Apprenticeship Construction Education (PACE)</span></span></span><br />\n<span style="color:black\;"><span style="font-family:arial\,sans-serif\;"><span style="font-size:12.0pt\;">~ Seattle Vocational Institute Pre-Apprenticeship Construction Training (PACT)</span></span></span><br />\n<span style="color:black\;"><span style="font-family:arial\,sans-serif\;"><span style="font-size:12.0pt\;">~ Apprenticeship &amp\; Non-Traditional Employment for Women (ANEW)</span></span></span><br />\n<span style="color:black\;"><span style="font-family:arial\,sans-serif\;"><span style="font-size:12.0pt\;">~ YouthCare&#39\;s YouthBuild</span></span></span><br />\n<span style="color:black\;"><span style="font-family:arial\,sans-serif\;"><span style="font-size:12.0pt\;">~ Iron Workers Apprenticeship</span></span></span><br />\n<span style="color:black\;"><span style="font-family:arial\,sans-serif\;"><span style="font-size:12.0pt\;">~ Puget Sound Electrical Apprenticeships</span></span></span><br />\n<span style="color:black\;"><span style="font-family:arial\,sans-serif\;"><span style="font-size:12.0pt\;">~ Northwest Laborers Apprenticeships</span></span></span><br />\n<span style="color:black\;"><span style="font-family:arial\,sans-serif\;"><span style="font-size:12.0pt\;">~ Northwest Carpenters Apprenticeships</span></span></span><br />\n<span style="color:black\;"><span style="font-family:arial\,sans-serif\;"><span style="font-size:12.0pt\;">~ Operating Engineers Apprenticeships</span></span></span><br />\n<span style="color:black\;"><span style="font-family:arial\,sans-serif\;"><span style="font-size:12.0pt\;">~ Seattle Area Pipe Trades Plumbers Apprenticeships</span></span></span><br />\n<span style="color:black\;"><span style="font-family:arial\,sans-serif\;"><span style="font-size:12.0pt\;">~ Seattle City Light Apprenticeship</span></span></span><br />\n<span style="color:black\;"><span style="font-family:arial\,sans-serif\;"><span style="font-size:12.0pt\;">~ Highline Schools Puget Sound Skills Center</span></span></span><br />\n<span style="color:black\;"><span style="font-family:arial\,sans-serif\;"><span style="font-size:12.0pt\;">~ U.S. Dept. of Labor Women&#39\;s Bureau</span></span></span><br />\n<span style="color:black\;"><span style="font-family:arial\,sans-serif\;"><span style="font-size:12.0pt\;">~ Partner in Employment (PIE)</span></span></span><br />\n&nbsp\;<br />\n<strong><em><u><span style="color:black\;"><span style="font-family:arial\,sans-serif\;"><span style="font-size:12.0pt\;">Event Planning Partners</span></span></span></u></em></strong><strong><em><span style="color:black\;"><span style="font-family:arial\,sans-serif\;"><span style="font-size:12.0pt\;">:</span></span></span></em></strong>&nbsp\;<br />\n<span style="color:black\;"><span style="font-family:arial\,sans-serif\;"><span style="font-size:12.0pt\;">~ City of Tukwila</span></span></span><br />\n<span style="color:black\;"><span style="font-family:arial\,sans-serif\;"><span style="font-size:12.0pt\;">~ Tukwila School District</span></span></span><br />\n<span style="color:black\;"><span style="font-family:arial\,sans-serif\;"><span style="font-size:12.0pt\;">~ King County</span></span></span><br />\n<span style="color:black\;"><span style="font-family:arial\,sans-serif\;"><span style="font-size:12.0pt\;">~ Communities of Opportunity SeaTac/Tukwila</span></span></span><br />\n<span style="color:black\;"><span style="font-family:arial\,sans-serif\;"><span style="font-size:12.0pt\;">~ WorkSource Seattle-King County</span></span></span><br />\n<span style="color:black\;"><span style="font-family:arial\,sans-serif\;"><span style="font-size:12.0pt\;">~ Global 2 Local</span></span></span><br />\n<span style="color:black\;"><span style="font-family:arial\,sans-serif\;"><span style="font-size:12.0pt\;">~ Partner In Employment (PIE)</span></span></span>
LOCATION:Foster High School Auditorium\, 4242 S. 144th Street\, Tukwila\, WA
UID:e.2591.862
SEQUENCE:3
DTSTAMP:20260425T170605Z
URL:http://seattlesouthsidechamber.com/events/details/diversity-inclusion-industry-panel-and-resource-event-apprenticeship-pathways-to-construction-careers-862
END:VEVENT

END:VCALENDAR
