BEGIN:VCALENDAR
VERSION:2.0
PRODID:-//ChamberMaster//Event Calendar 2.0//EN
METHOD:PUBLISH
X-PUBLISHED-TTL:P3D
REFRESH-INTERVAL:P3D
CALSCALE:GREGORIAN
BEGIN:VEVENT
DTSTART:20170901T003000Z
DTEND:20170901T030000Z
X-MICROSOFT-CDO-ALLDAYEVENT:FALSE
SUMMARY:Discover Burien: Family Fun Run
DESCRIPTION:Location: Burien Town Square Park (Burien Town Square Park Burien)\n\n\n\nTickets: Free\n\n\n\n\nThe Run will be from 6:30   7:30 p.m.\, with check-in at 5:30 p.m.\, and the big raffle from 7:30   8 p.m.
X-ALT-DESC;FMTTYPE=text/html:<header class="entry-header" style="clear: both\; color: rgb(68\, 68\, 68)\; font-family: &quot\;Open Sans&quot\;\, Arial\, sans-serif\; font-size: 12px\; background-color: rgb(244\, 244\, 242)\;">\n<div class="entry-meta entry-tickets" style="border: 0px\; vertical-align: baseline\; background: transparent\; margin: 0px\; padding: 0px\;">\n<div class="event-tickets tickets" style="border: 0px\; vertical-align: baseline\; background: transparent\; margin: 0px\; padding: 0px\;"><span class="term-list event-location cat-links" style="border: 0px\; font-size: 12px\; vertical-align: baseline\; background: rgb(244\, 244\, 242)\; margin: 0px\; padding: 0px\; color: rgb(68\, 68\, 68)\; font-family: &quot\;Open Sans&quot\;\, Arial\, sans-serif\;"><strong style="border: 0px\; vertical-align: baseline\; background: transparent\; margin: 0px\; padding: 0px\;">Location:&nbsp\;</strong><span class="single-location term-68" style="border: 0px\; vertical-align: baseline\; background: transparent\; margin: 0px\; padding: 0px\;"><a class="location" href="http://www.discoverburien.org/events/location/burien-town-square-park/" style="border: 0px\; vertical-align: baseline\; background: transparent\; margin: 0px\; padding: 0px\; color: rgb(219\, 119\, 31)\;">Burien Town Square Park</a>&nbsp\;<span class="location-details" style="border: 0px\; vertical-align: baseline\; background: transparent\; margin: 0px\; padding: 0px\;">(Burien Town Square Park Burien)</span></span></span><br />\n<br />\n<span class="tickets-label" style="border: 0px\; vertical-align: baseline\; background: transparent\; margin: 0px\; padding: 0px\;"><strong style="border: 0px\; vertical-align: baseline\; background: transparent\; margin: 0px\; padding: 0px\;">Tickets:&nbsp\;</strong></span><span class="event-ticket" style="border: 0px\; vertical-align: baseline\; background: transparent\; margin: 0px\; padding: 0px\;">Free</span></div>\n</div>\n</header>\n\n<div class="entry-content description" style="border: 0px\; font-size: 12px\; vertical-align: baseline\; background: rgb(244\, 244\, 242)\; margin: 30px 0px 20px\; padding: 0px\; clear: both\; color: rgb(68\, 68\, 68)\; font-family: &quot\;Open Sans&quot\;\, Arial\, sans-serif\;">\n<p style="border: 0px\; font-size: 13px\; vertical-align: baseline\; background: transparent\; margin: 0px 0px 20px\; padding: 0px\; line-height: 2\;">The Run will be from 6:30 &ndash\; 7:30 p.m.\, with check-in at 5:30 p.m.\, and the big raffle from 7:30 &ndash\; 8 p.m.</p>\n</div>\n
LOCATION:
UID:e.2591.851
SEQUENCE:3
DTSTAMP:20260425T182900Z
URL:http://seattlesouthsidechamber.com/events/details/discover-burien-family-fun-run-851
END:VEVENT

END:VCALENDAR
