BEGIN:VCALENDAR
VERSION:2.0
PRODID:-//ChamberMaster//Event Calendar 2.0//EN
METHOD:PUBLISH
X-PUBLISHED-TTL:P3D
REFRESH-INTERVAL:P3D
CALSCALE:GREGORIAN
BEGIN:VEVENT
DTSTART:20190327T180000Z
DTEND:20190327T200000Z
X-MICROSOFT-CDO-ALLDAYEVENT:FALSE
SUMMARY:Discover Burien Continuing Education Luncheon - Human Resources For Small Businesses
DESCRIPTION:Human Resources for Small Businesses - Free Lunch will be Provided\n\nPart 2 of 2 Due to its continuing education and progressive nature\, attendance of all parts of this series is mandatory.
X-ALT-DESC;FMTTYPE=text/html:<p>Human Resources for Small Businesses - Free Lunch will be Provided</p>\n\n<p>Part 2 of 2 Due to its continuing education and progressive nature\, attendance of all parts of this series is mandatory.</p>\n
LOCATION:Discover Burien 427 SW 152nd Burien\, WA 98166
UID:e.2591.2818
SEQUENCE:3
DTSTAMP:20260424T110054Z
URL:http://seattlesouthsidechamber.com/events/details/discover-burien-continuing-education-luncheon-human-resources-for-small-businesses-2818
END:VEVENT

END:VCALENDAR
