BEGIN:VCALENDAR
VERSION:2.0
PRODID:-//ChamberMaster//Event Calendar 2.0//EN
METHOD:PUBLISH
X-PUBLISHED-TTL:P3D
REFRESH-INTERVAL:P3D
CALSCALE:GREGORIAN
BEGIN:VEVENT
DTSTART:20190228T200000Z
DTEND:20190228T210000Z
X-MICROSOFT-CDO-ALLDAYEVENT:FALSE
SUMMARY:Discover Burien Continuing Education Luncheon - Business Marketing
DESCRIPTION:Basic Marketing for small businesses. Free Lunch will be provided.\n\nPart 3 of 3. Due to its continuing education and progressive nature\, attendance of all parts of this series is mandatory.
X-ALT-DESC;FMTTYPE=text/html:<p>Basic Marketing for small businesses. Free Lunch will be provided.</p>\n\n<p>Part 3 of 3. Due to its continuing education and progressive nature\, attendance of all parts of this series is mandatory.</p>\n
LOCATION:Discover Burien 427 SW 152nd Burien\, WA 98166
UID:e.2591.2814
SEQUENCE:3
DTSTAMP:20260424T123428Z
URL:http://seattlesouthsidechamber.com/events/details/discover-burien-continuing-education-luncheon-business-marketing-2814
END:VEVENT

END:VCALENDAR
