BEGIN:VCALENDAR
VERSION:2.0
PRODID:-//ChamberMaster//Event Calendar 2.0//EN
METHOD:PUBLISH
X-PUBLISHED-TTL:P3D
REFRESH-INTERVAL:P3D
CALSCALE:GREGORIAN
BEGIN:VEVENT
DTSTART:20190117T013000Z
DTEND:20190117T030000Z
X-MICROSOFT-CDO-ALLDAYEVENT:FALSE
SUMMARY:Discover Burien After Hours at Deeper Church
DESCRIPTION:Join us for this Discover Burien networking event at Deeper Church! Light refreshments will be served.
X-ALT-DESC;FMTTYPE=text/html:Join us for this Discover Burien networking event at Deeper Church! Light refreshments will be served.
LOCATION:Deeper Church 15434 10th Ave SW Burien\, WA 98166
UID:e.2591.2741
SEQUENCE:3
DTSTAMP:20260424T140826Z
URL:http://seattlesouthsidechamber.com/events/details/discover-burien-after-hours-at-deeper-church-2741
END:VEVENT

END:VCALENDAR
