BEGIN:VCALENDAR
VERSION:2.0
PRODID:-//ChamberMaster//Event Calendar 2.0//EN
METHOD:PUBLISH
X-PUBLISHED-TTL:P3D
REFRESH-INTERVAL:P3D
CALSCALE:GREGORIAN
BEGIN:VEVENT
DTSTART;VALUE=DATE:20181130
DTEND;VALUE=DATE:20181218
TRANSP:TRANSPARENT
X-MICROSOFT-CDO-ALLDAYEVENT:TRUE
SUMMARY:DieCutStickers.com 2nd Annual Toy Drive
DESCRIPTION:Chamber member DieCutStickers.com is collecting toys for their 2nd Annual Toy Drive. They are collecting donations of new\, unused and unwrapped toys for all ages\, and gift cards for the older youth.
X-ALT-DESC;FMTTYPE=text/html:Chamber member DieCutStickers.com is collecting toys for their 2nd Annual Toy Drive. They are collecting donations of new\, unused and unwrapped toys for all ages\, and gift cards for the older youth.
LOCATION:Drop off barrel locations: DieCutStickers.com 345 Andover Park E Tukwila\, WA 98168 Seattle Southside Chamber Office 14220 Interurban Ave S #134 Tukwila\, WA 98168
UID:e.2591.2640
SEQUENCE:3
DTSTAMP:20260424T154833Z
URL:http://seattlesouthsidechamber.com/events/details/diecutstickers-com-2nd-annual-toy-drive-2640
END:VEVENT

END:VCALENDAR
