BEGIN:VCALENDAR
VERSION:2.0
PRODID:-//ChamberMaster//Event Calendar 2.0//EN
METHOD:PUBLISH
X-PUBLISHED-TTL:P3D
REFRESH-INTERVAL:P3D
CALSCALE:GREGORIAN
BEGIN:VEVENT
DTSTART:20171031T220000Z
DTEND:20171101T010000Z
X-MICROSOFT-CDO-ALLDAYEVENT:FALSE
SUMMARY:Destination Des Moines Trick-or-Treat Path
DESCRIPTION:Bring your ghouls and gobblins out for a family-friendly free event in Des Moines\, WA.  \n\n \n\nPresented by Destination Des Moines:  Trick or Treat Path!\n\n \n\nTrick-or-Treat at Des Moines area businesses along Marine View Drive & 7th Ave S.\n\n \n\nDes Moines Parks\, Recreation & Senior Services are also having a Halloween Carnival at the Des Moines Field House on 200th Street.  5 - 8PM\n\n \n\nGet a Stamp Card from one of our volunteers or at participating businesses.  15 Stamps for $1 OFF of admission to the Halloween Carnival.
X-ALT-DESC;FMTTYPE=text/html:<p class="font_7" style="margin: 0px\; padding: 0px\; border: 0px\; outline: 0px\; vertical-align: baseline\; background: transparent\; font-style: italic\; font-stretch: normal\; font-size: 18px\; line-height: normal\; font-family: &quot\;courier new&quot\;\, courier-ps-w01\, courier-ps-w02\, courier-ps-w10\, monospace\; color: rgb(158\, 89\, 0)\;"><span style="color:#000000\;"><span style="margin: 0px\; padding: 0px\; border: 0px\; outline: 0px\; vertical-align: baseline\; background: transparent\;"><span style="margin: 0px\; padding: 0px\; border: 0px\; outline: 0px\; vertical-align: baseline\; background: transparent\; font-family: helvetica-w01-bold\, helvetica-w02-bold\, helvetica-lt-w10-bold\, sans-serif\;"><span style="margin: 0px\; padding: 0px\; border: 0px\; outline: 0px\; vertical-align: baseline\; background: transparent\; font-style: normal\;">Bring your ghouls and gobblins out for a family-friendly free event in Des Moines\, WA. &nbsp\;</span></span></span></span></p>\n\n<p class="font_7" style="margin: 0px\; padding: 0px\; border: 0px\; outline: 0px\; vertical-align: baseline\; background: transparent\; font-style: italic\; font-stretch: normal\; font-size: 18px\; line-height: normal\; font-family: &quot\;courier new&quot\;\, courier-ps-w01\, courier-ps-w02\, courier-ps-w10\, monospace\; color: rgb(158\, 89\, 0)\;">&nbsp\;</p>\n\n<p class="font_7" style="margin: 0px\; padding: 0px\; border: 0px\; outline: 0px\; vertical-align: baseline\; background: transparent\; font-style: italic\; font-stretch: normal\; font-size: 18px\; line-height: normal\; font-family: &quot\;courier new&quot\;\, courier-ps-w01\, courier-ps-w02\, courier-ps-w10\, monospace\; color: rgb(158\, 89\, 0)\;"><span style="color:#000000\;"><span style="margin: 0px\; padding: 0px\; border: 0px\; outline: 0px\; vertical-align: baseline\; background: transparent\;"><span style="margin: 0px\; padding: 0px\; border: 0px\; outline: 0px\; vertical-align: baseline\; background: transparent\; font-family: helvetica-w01-bold\, helvetica-w02-bold\, helvetica-lt-w10-bold\, sans-serif\;"><span style="margin: 0px\; padding: 0px\; border: 0px\; outline: 0px\; vertical-align: baseline\; background: transparent\; font-style: normal\;">Presented by Destination Des Moines: &nbsp\;Trick or Treat Path!</span></span></span></span></p>\n\n<p class="font_7" style="margin: 0px\; padding: 0px\; border: 0px\; outline: 0px\; vertical-align: baseline\; background: transparent\; font-style: italic\; font-stretch: normal\; font-size: 18px\; line-height: normal\; font-family: &quot\;courier new&quot\;\, courier-ps-w01\, courier-ps-w02\, courier-ps-w10\, monospace\; color: rgb(158\, 89\, 0)\;">&nbsp\;</p>\n\n<p class="font_7" style="margin: 0px\; padding: 0px\; border: 0px\; outline: 0px\; vertical-align: baseline\; background: transparent\; font-style: italic\; font-stretch: normal\; font-size: 18px\; line-height: normal\; font-family: &quot\;courier new&quot\;\, courier-ps-w01\, courier-ps-w02\, courier-ps-w10\, monospace\; color: rgb(158\, 89\, 0)\;"><span style="color:#000000\;"><span style="margin: 0px\; padding: 0px\; border: 0px\; outline: 0px\; vertical-align: baseline\; background: transparent\;"><span style="margin: 0px\; padding: 0px\; border: 0px\; outline: 0px\; vertical-align: baseline\; background: transparent\; font-family: helvetica-w01-bold\, helvetica-w02-bold\, helvetica-lt-w10-bold\, sans-serif\;"><span style="margin: 0px\; padding: 0px\; border: 0px\; outline: 0px\; vertical-align: baseline\; background: transparent\; font-style: normal\;">Trick-or-Treat at Des Moines area businesses along Marine View Drive &amp\; 7th Ave S.</span></span></span></span></p>\n\n<p class="font_7" style="margin: 0px\; padding: 0px\; border: 0px\; outline: 0px\; vertical-align: baseline\; background: transparent\; font-style: italic\; font-stretch: normal\; font-size: 18px\; line-height: normal\; font-family: &quot\;courier new&quot\;\, courier-ps-w01\, courier-ps-w02\, courier-ps-w10\, monospace\; color: rgb(158\, 89\, 0)\;">&nbsp\;</p>\n\n<p class="font_7" style="margin: 0px\; padding: 0px\; border: 0px\; outline: 0px\; vertical-align: baseline\; background: transparent\; font-style: italic\; font-stretch: normal\; font-size: 18px\; line-height: normal\; font-family: &quot\;courier new&quot\;\, courier-ps-w01\, courier-ps-w02\, courier-ps-w10\, monospace\; color: rgb(158\, 89\, 0)\;"><span style="color:#000000\;"><span style="margin: 0px\; padding: 0px\; border: 0px\; outline: 0px\; vertical-align: baseline\; background: transparent\;"><span style="margin: 0px\; padding: 0px\; border: 0px\; outline: 0px\; vertical-align: baseline\; background: transparent\; font-family: helvetica-w01-bold\, helvetica-w02-bold\, helvetica-lt-w10-bold\, sans-serif\;"><span style="margin: 0px\; padding: 0px\; border: 0px\; outline: 0px\; vertical-align: baseline\; background: transparent\; font-style: normal\;">Des Moines Parks\, Recreation &amp\; Senior Services are also having a Halloween Carnival at the Des Moines Field House on 200th Street. &nbsp\;5 - 8PM</span></span></span></span></p>\n\n<p class="font_7" style="margin: 0px\; padding: 0px\; border: 0px\; outline: 0px\; vertical-align: baseline\; background: transparent\; font-style: italic\; font-stretch: normal\; font-size: 18px\; line-height: normal\; font-family: &quot\;courier new&quot\;\, courier-ps-w01\, courier-ps-w02\, courier-ps-w10\, monospace\; color: rgb(158\, 89\, 0)\;">&nbsp\;</p>\n\n<p class="font_7" style="margin: 0px\; padding: 0px\; border: 0px\; outline: 0px\; vertical-align: baseline\; background: transparent\; font-style: italic\; font-stretch: normal\; font-size: 18px\; line-height: normal\; font-family: &quot\;courier new&quot\;\, courier-ps-w01\, courier-ps-w02\, courier-ps-w10\, monospace\; color: rgb(158\, 89\, 0)\;"><span style="color:#000000\;"><span style="margin: 0px\; padding: 0px\; border: 0px\; outline: 0px\; vertical-align: baseline\; background: transparent\;"><span style="margin: 0px\; padding: 0px\; border: 0px\; outline: 0px\; vertical-align: baseline\; background: transparent\; font-family: helvetica-w01-bold\, helvetica-w02-bold\, helvetica-lt-w10-bold\, sans-serif\;"><span style="margin: 0px\; padding: 0px\; border: 0px\; outline: 0px\; vertical-align: baseline\; background: transparent\; font-style: normal\;">Get a Stamp Card from one of our volunteers or at participating businesses. &nbsp\;15 Stamps for $1 OFF of admission to the Halloween Carnival. &nbsp\;</span></span></span></span></p>\n
LOCATION:Trick-or-Treat at Des Moines area businesses along Marine View Drive & 7th Ave S.
UID:e.2591.853
SEQUENCE:3
DTSTAMP:20260425T160025Z
URL:http://seattlesouthsidechamber.com/events/details/destination-des-moines-trick-or-treat-path-853
END:VEVENT

END:VCALENDAR
