BEGIN:VCALENDAR
VERSION:2.0
PRODID:-//ChamberMaster//Event Calendar 2.0//EN
METHOD:PUBLISH
X-PUBLISHED-TTL:P3D
REFRESH-INTERVAL:P3D
CALSCALE:GREGORIAN
BEGIN:VEVENT
DTSTART;VALUE=DATE:20170721
DTEND;VALUE=DATE:20170724
TRANSP:TRANSPARENT
X-MICROSOFT-CDO-ALLDAYEVENT:TRUE
SUMMARY:Des Moines Waterland Festival & Parade
DESCRIPTION:Des Moines Waterland Festival & Parade\n\nA Waterland tradition since 1959\n\n\n\nFull weekend of events celebrating our Waterland Community:  Des Moines\, WA\n\n \n\nBrought to you by Destination Des Moines as a Seafair Sanctioned Community Event.\n\n \n\nJuly 21 - 23:  Kids Carnival at the Field House - Bounce Houses\, Obstacle Course\, Climbing Wall\, 9-hole Mini Golf\, and more!  Full Day Unlimited pass - $20.  Full Day Limited Pass - $15 (doesn't include the larger apparatuses like the Climbing Wall) ...  Single Tickets also available.\n\n \n\nPony Rides and petting zoo!  Rates will be posted at the carnival.\n\n \n\nJuly 21 - 23:  Wooden Boats at the Marina\n\n \n\nJuly 22:  Waterland Parade:  Kids start at 5:45pm and the Grand Parade immediately follows.  Starts at the Landmark and runs along Marine View Drive from South to North\, ending at 216th.\n\n \n\nJuly 23:  Wheels & Keels Car\, Motorcycle\, and Wooden Boat Show - 10am - 4pm\n\nLive Music\, Food Trucks\, and Beer/Wine garden.  Enjoy the best of our Waterland Community with this full day festival.  \n\n \n\nDock Street will be closed until after 4pm.  Marina Parking will be available on the South end of the Marina.  Please note this is now paid parking on the marina floor.
X-ALT-DESC;FMTTYPE=text/html:<p class="font_7" style="margin: 0px\; padding: 0px\; border: 0px\; outline: 0px\; vertical-align: baseline\; background: transparent\; font-style: italic\; font-stretch: normal\; font-size: 22px\; line-height: normal\; font-family: &quot\;courier new&quot\;\, courier-ps-w01\, courier-ps-w02\, courier-ps-w10\, monospace\; color: rgb(158\, 89\, 0)\;"><span style="margin: 0px\; padding: 0px\; border: 0px\; outline: 0px\; vertical-align: baseline\; background: transparent\; font-style: normal\;"><span style="margin: 0px\; padding: 0px\; border: 0px\; outline: 0px\; vertical-align: baseline\; background: transparent\; color: rgb(16\, 62\, 172)\;"><span style="margin: 0px\; padding: 0px\; border: 0px\; outline: 0px\; vertical-align: baseline\; background: transparent\;"><span style="margin: 0px\; padding: 0px\; border: 0px\; outline: 0px\; vertical-align: baseline\; background: transparent\; font-family: raleway\, sans-serif\;">Des Moines Waterland&nbsp\;Festival &amp\; Parade<br />\nA Waterland tradition since 1959<br />\n<br />\nFull weekend of events celebrating our Waterland Community: &nbsp\;Des Moines\, WA</span></span></span></span></p>\n\n<p class="font_7" style="margin: 0px\; padding: 0px\; border: 0px\; outline: 0px\; vertical-align: baseline\; background: transparent\; font-style: italic\; font-stretch: normal\; font-size: 22px\; line-height: normal\; font-family: &quot\;courier new&quot\;\, courier-ps-w01\, courier-ps-w02\, courier-ps-w10\, monospace\; color: rgb(158\, 89\, 0)\;"><span style="margin: 0px\; padding: 0px\; border: 0px\; outline: 0px\; vertical-align: baseline\; background: transparent\; font-style: normal\;"><span style="margin: 0px\; padding: 0px\; border: 0px\; outline: 0px\; vertical-align: baseline\; background: transparent\; color: rgb(16\, 62\, 172)\;"><span style="margin: 0px\; padding: 0px\; border: 0px\; outline: 0px\; vertical-align: baseline\; background: transparent\;"><span style="margin: 0px\; padding: 0px\; border: 0px\; outline: 0px\; vertical-align: baseline\; background: transparent\; font-family: raleway\, sans-serif\;"><span class="wixGuard" style="margin: 0px\; padding: 0px\; border: 0px\; outline: 0px\; vertical-align: baseline\; background: transparent\;">&#8203\;</span></span></span></span></span></p>\n\n<p class="font_7" style="margin: 0px\; padding: 0px\; border: 0px\; outline: 0px\; vertical-align: baseline\; background: transparent\; font-style: italic\; font-stretch: normal\; font-size: 22px\; line-height: normal\; font-family: &quot\;courier new&quot\;\, courier-ps-w01\, courier-ps-w02\, courier-ps-w10\, monospace\; color: rgb(158\, 89\, 0)\;"><span style="margin: 0px\; padding: 0px\; border: 0px\; outline: 0px\; vertical-align: baseline\; background: transparent\; font-style: normal\;"><span style="margin: 0px\; padding: 0px\; border: 0px\; outline: 0px\; vertical-align: baseline\; background: transparent\; color: rgb(16\, 62\, 172)\;"><span style="margin: 0px\; padding: 0px\; border: 0px\; outline: 0px\; vertical-align: baseline\; background: transparent\;"><span style="margin: 0px\; padding: 0px\; border: 0px\; outline: 0px\; vertical-align: baseline\; background: transparent\; font-family: raleway\, sans-serif\;">Brought to you by Destination Des Moines as a Seafair Sanctioned Community Event.</span></span></span></span></p>\n\n<p class="font_7" style="margin: 0px\; padding: 0px\; border: 0px\; outline: 0px\; vertical-align: baseline\; background: transparent\; font-style: italic\; font-stretch: normal\; font-size: 22px\; line-height: normal\; font-family: &quot\;courier new&quot\;\, courier-ps-w01\, courier-ps-w02\, courier-ps-w10\, monospace\; color: rgb(158\, 89\, 0)\;"><span style="margin: 0px\; padding: 0px\; border: 0px\; outline: 0px\; vertical-align: baseline\; background: transparent\; font-style: normal\;"><span style="margin: 0px\; padding: 0px\; border: 0px\; outline: 0px\; vertical-align: baseline\; background: transparent\; color: rgb(16\, 62\, 172)\;"><span style="margin: 0px\; padding: 0px\; border: 0px\; outline: 0px\; vertical-align: baseline\; background: transparent\;"><span style="margin: 0px\; padding: 0px\; border: 0px\; outline: 0px\; vertical-align: baseline\; background: transparent\; font-family: raleway\, sans-serif\;"><span class="wixGuard" style="margin: 0px\; padding: 0px\; border: 0px\; outline: 0px\; vertical-align: baseline\; background: transparent\;">&#8203\;</span></span></span></span></span></p>\n\n<p class="font_7" style="margin: 0px\; padding: 0px\; border: 0px\; outline: 0px\; vertical-align: baseline\; background: transparent\; font-style: italic\; font-stretch: normal\; font-size: 18px\; line-height: normal\; font-family: &quot\;courier new&quot\;\, courier-ps-w01\, courier-ps-w02\, courier-ps-w10\, monospace\; color: rgb(158\, 89\, 0)\;"><span style="margin: 0px\; padding: 0px\; border: 0px\; outline: 0px\; vertical-align: baseline\; background: transparent\; color: rgb(16\, 62\, 172)\; font-family: raleway\, sans-serif\; font-size: 22px\; font-style: normal\;">July 21 - 23: &nbsp\;Kids Carnival at the Field House - Bounce Houses\, Obstacle Course\, Climbing Wall\, 9-hole Mini Golf\, and more! &nbsp\;Full Day Unlimited pass - $20. &nbsp\;Full Day Limited Pass - $15 (doesn&#39\;t include the larger apparatuses like the Climbing Wall)&nbsp\;... &nbsp\;Single Tickets also available.</span></p>\n\n<p class="font_7" style="margin: 0px\; padding: 0px\; border: 0px\; outline: 0px\; vertical-align: baseline\; background: transparent\; font-style: italic\; font-stretch: normal\; font-size: 18px\; line-height: normal\; font-family: &quot\;courier new&quot\;\, courier-ps-w01\, courier-ps-w02\, courier-ps-w10\, monospace\; color: rgb(158\, 89\, 0)\;"><span style="margin: 0px\; padding: 0px\; border: 0px\; outline: 0px\; vertical-align: baseline\; background: transparent\; color: rgb(16\, 62\, 172)\; font-family: raleway\, sans-serif\; font-size: 22px\; font-style: normal\;"><span class="wixGuard" style="margin: 0px\; padding: 0px\; border: 0px\; outline: 0px\; vertical-align: baseline\; background: transparent\;">&#8203\;</span></span></p>\n\n<p class="font_7" style="margin: 0px\; padding: 0px\; border: 0px\; outline: 0px\; vertical-align: baseline\; background: transparent\; font-style: italic\; font-stretch: normal\; font-size: 18px\; line-height: normal\; font-family: &quot\;courier new&quot\;\, courier-ps-w01\, courier-ps-w02\, courier-ps-w10\, monospace\; color: rgb(158\, 89\, 0)\;"><span style="margin: 0px\; padding: 0px\; border: 0px\; outline: 0px\; vertical-align: baseline\; background: transparent\; color: rgb(16\, 62\, 172)\; font-family: raleway\, sans-serif\; font-size: 22px\; font-style: normal\;">Pony Rides and petting zoo! &nbsp\;Rates will be posted at the carnival.</span></p>\n\n<p class="font_7" style="margin: 0px\; padding: 0px\; border: 0px\; outline: 0px\; vertical-align: baseline\; background: transparent\; font-style: italic\; font-stretch: normal\; font-size: 22px\; line-height: normal\; font-family: &quot\;courier new&quot\;\, courier-ps-w01\, courier-ps-w02\, courier-ps-w10\, monospace\; color: rgb(158\, 89\, 0)\;"><span style="margin: 0px\; padding: 0px\; border: 0px\; outline: 0px\; vertical-align: baseline\; background: transparent\; font-style: normal\;"><span style="margin: 0px\; padding: 0px\; border: 0px\; outline: 0px\; vertical-align: baseline\; background: transparent\; color: rgb(16\, 62\, 172)\;"><span style="margin: 0px\; padding: 0px\; border: 0px\; outline: 0px\; vertical-align: baseline\; background: transparent\;"><span style="margin: 0px\; padding: 0px\; border: 0px\; outline: 0px\; vertical-align: baseline\; background: transparent\; font-family: raleway\, sans-serif\;"><span class="wixGuard" style="margin: 0px\; padding: 0px\; border: 0px\; outline: 0px\; vertical-align: baseline\; background: transparent\;">&#8203\;</span></span></span></span></span></p>\n\n<p class="font_7" style="margin: 0px\; padding: 0px\; border: 0px\; outline: 0px\; vertical-align: baseline\; background: transparent\; font-style: italic\; font-stretch: normal\; font-size: 22px\; line-height: normal\; font-family: &quot\;courier new&quot\;\, courier-ps-w01\, courier-ps-w02\, courier-ps-w10\, monospace\; color: rgb(158\, 89\, 0)\;"><span style="margin: 0px\; padding: 0px\; border: 0px\; outline: 0px\; vertical-align: baseline\; background: transparent\; font-style: normal\;"><span style="margin: 0px\; padding: 0px\; border: 0px\; outline: 0px\; vertical-align: baseline\; background: transparent\; color: rgb(16\, 62\, 172)\;"><span style="margin: 0px\; padding: 0px\; border: 0px\; outline: 0px\; vertical-align: baseline\; background: transparent\;"><span style="margin: 0px\; padding: 0px\; border: 0px\; outline: 0px\; vertical-align: baseline\; background: transparent\; font-family: raleway\, sans-serif\;">July 21 - 23: &nbsp\;Wooden Boats at the Marina</span></span></span></span></p>\n\n<p class="font_7" style="margin: 0px\; padding: 0px\; border: 0px\; outline: 0px\; vertical-align: baseline\; background: transparent\; font-style: italic\; font-stretch: normal\; font-size: 22px\; line-height: normal\; font-family: &quot\;courier new&quot\;\, courier-ps-w01\, courier-ps-w02\, courier-ps-w10\, monospace\; color: rgb(158\, 89\, 0)\;"><span style="margin: 0px\; padding: 0px\; border: 0px\; outline: 0px\; vertical-align: baseline\; background: transparent\; font-style: normal\;"><span style="margin: 0px\; padding: 0px\; border: 0px\; outline: 0px\; vertical-align: baseline\; background: transparent\; color: rgb(16\, 62\, 172)\;"><span style="margin: 0px\; padding: 0px\; border: 0px\; outline: 0px\; vertical-align: baseline\; background: transparent\;"><span style="margin: 0px\; padding: 0px\; border: 0px\; outline: 0px\; vertical-align: baseline\; background: transparent\; font-family: raleway\, sans-serif\;"><span class="wixGuard" style="margin: 0px\; padding: 0px\; border: 0px\; outline: 0px\; vertical-align: baseline\; background: transparent\;">&#8203\;</span></span></span></span></span></p>\n\n<p class="font_7" style="margin: 0px\; padding: 0px\; border: 0px\; outline: 0px\; vertical-align: baseline\; background: transparent\; font-style: italic\; font-stretch: normal\; font-size: 22px\; line-height: normal\; font-family: &quot\;courier new&quot\;\, courier-ps-w01\, courier-ps-w02\, courier-ps-w10\, monospace\; color: rgb(158\, 89\, 0)\;"><span style="margin: 0px\; padding: 0px\; border: 0px\; outline: 0px\; vertical-align: baseline\; background: transparent\; font-style: normal\;"><span style="margin: 0px\; padding: 0px\; border: 0px\; outline: 0px\; vertical-align: baseline\; background: transparent\; color: rgb(16\, 62\, 172)\;"><span style="margin: 0px\; padding: 0px\; border: 0px\; outline: 0px\; vertical-align: baseline\; background: transparent\;"><span style="margin: 0px\; padding: 0px\; border: 0px\; outline: 0px\; vertical-align: baseline\; background: transparent\; font-family: raleway\, sans-serif\;">July 22: &nbsp\;Waterland Parade: &nbsp\;Kids start at 5:45pm and the Grand Parade immediately follows. &nbsp\;Starts at the Landmark and runs along Marine View Drive from South to North\, ending at 216th.</span></span></span></span></p>\n\n<p class="font_7" style="margin: 0px\; padding: 0px\; border: 0px\; outline: 0px\; vertical-align: baseline\; background: transparent\; font-style: italic\; font-stretch: normal\; font-size: 22px\; line-height: normal\; font-family: &quot\;courier new&quot\;\, courier-ps-w01\, courier-ps-w02\, courier-ps-w10\, monospace\; color: rgb(158\, 89\, 0)\;"><span style="margin: 0px\; padding: 0px\; border: 0px\; outline: 0px\; vertical-align: baseline\; background: transparent\; font-style: normal\;"><span style="margin: 0px\; padding: 0px\; border: 0px\; outline: 0px\; vertical-align: baseline\; background: transparent\; color: rgb(16\, 62\, 172)\;"><span style="margin: 0px\; padding: 0px\; border: 0px\; outline: 0px\; vertical-align: baseline\; background: transparent\;"><span style="margin: 0px\; padding: 0px\; border: 0px\; outline: 0px\; vertical-align: baseline\; background: transparent\; font-family: raleway\, sans-serif\;"><span class="wixGuard" style="margin: 0px\; padding: 0px\; border: 0px\; outline: 0px\; vertical-align: baseline\; background: transparent\;">&#8203\;</span></span></span></span></span></p>\n\n<p class="font_7" style="margin: 0px\; padding: 0px\; border: 0px\; outline: 0px\; vertical-align: baseline\; background: transparent\; font-style: italic\; font-stretch: normal\; font-size: 22px\; line-height: normal\; font-family: &quot\;courier new&quot\;\, courier-ps-w01\, courier-ps-w02\, courier-ps-w10\, monospace\; color: rgb(158\, 89\, 0)\;"><span style="margin: 0px\; padding: 0px\; border: 0px\; outline: 0px\; vertical-align: baseline\; background: transparent\; font-style: normal\;"><span style="margin: 0px\; padding: 0px\; border: 0px\; outline: 0px\; vertical-align: baseline\; background: transparent\; color: rgb(16\, 62\, 172)\;"><span style="margin: 0px\; padding: 0px\; border: 0px\; outline: 0px\; vertical-align: baseline\; background: transparent\;"><span style="margin: 0px\; padding: 0px\; border: 0px\; outline: 0px\; vertical-align: baseline\; background: transparent\; font-family: raleway\, sans-serif\;">July 23: &nbsp\;Wheels &amp\; Keels Car\, Motorcycle\, and Wooden Boat Show - 10am - 4pm</span></span></span></span></p>\n\n<p class="font_7" style="margin: 0px\; padding: 0px\; border: 0px\; outline: 0px\; vertical-align: baseline\; background: transparent\; font-style: italic\; font-stretch: normal\; font-size: 22px\; line-height: normal\; font-family: &quot\;courier new&quot\;\, courier-ps-w01\, courier-ps-w02\, courier-ps-w10\, monospace\; color: rgb(158\, 89\, 0)\;"><span style="margin: 0px\; padding: 0px\; border: 0px\; outline: 0px\; vertical-align: baseline\; background: transparent\; font-style: normal\;"><span style="margin: 0px\; padding: 0px\; border: 0px\; outline: 0px\; vertical-align: baseline\; background: transparent\; color: rgb(16\, 62\, 172)\;"><span style="margin: 0px\; padding: 0px\; border: 0px\; outline: 0px\; vertical-align: baseline\; background: transparent\;"><span style="margin: 0px\; padding: 0px\; border: 0px\; outline: 0px\; vertical-align: baseline\; background: transparent\; font-family: raleway\, sans-serif\;">Live Music\, Food Trucks\, and Beer/Wine garden. &nbsp\;Enjoy the best of our Waterland Community with this full day festival. &nbsp\;</span></span></span></span></p>\n\n<p class="font_7" style="margin: 0px\; padding: 0px\; border: 0px\; outline: 0px\; vertical-align: baseline\; background: transparent\; font-style: italic\; font-stretch: normal\; font-size: 22px\; line-height: normal\; font-family: &quot\;courier new&quot\;\, courier-ps-w01\, courier-ps-w02\, courier-ps-w10\, monospace\; color: rgb(158\, 89\, 0)\;"><span style="margin: 0px\; padding: 0px\; border: 0px\; outline: 0px\; vertical-align: baseline\; background: transparent\; font-style: normal\;"><span style="margin: 0px\; padding: 0px\; border: 0px\; outline: 0px\; vertical-align: baseline\; background: transparent\; color: rgb(16\, 62\, 172)\;"><span style="margin: 0px\; padding: 0px\; border: 0px\; outline: 0px\; vertical-align: baseline\; background: transparent\;"><span style="margin: 0px\; padding: 0px\; border: 0px\; outline: 0px\; vertical-align: baseline\; background: transparent\; font-family: raleway\, sans-serif\;"><span class="wixGuard" style="margin: 0px\; padding: 0px\; border: 0px\; outline: 0px\; vertical-align: baseline\; background: transparent\;">&#8203\;</span></span></span></span></span></p>\n\n<p class="font_7" style="margin: 0px\; padding: 0px\; border: 0px\; outline: 0px\; vertical-align: baseline\; background: transparent\; font-style: italic\; font-stretch: normal\; font-size: 22px\; line-height: normal\; font-family: &quot\;courier new&quot\;\, courier-ps-w01\, courier-ps-w02\, courier-ps-w10\, monospace\; color: rgb(158\, 89\, 0)\;"><span style="margin: 0px\; padding: 0px\; border: 0px\; outline: 0px\; vertical-align: baseline\; background: transparent\; font-style: normal\;"><span style="margin: 0px\; padding: 0px\; border: 0px\; outline: 0px\; vertical-align: baseline\; background: transparent\; color: rgb(16\, 62\, 172)\;"><span style="margin: 0px\; padding: 0px\; border: 0px\; outline: 0px\; vertical-align: baseline\; background: transparent\;"><span style="margin: 0px\; padding: 0px\; border: 0px\; outline: 0px\; vertical-align: baseline\; background: transparent\; font-family: raleway\, sans-serif\;">Dock Street will be closed until after 4pm. &nbsp\;Marina Parking will be available on the South end of the Marina. &nbsp\;Please note this is now paid parking on the marina floor.</span></span></span></span></p>\n\n<p class="font_7" style="margin: 0px\; padding: 0px\; border: 0px\; outline: 0px\; vertical-align: baseline\; background: transparent\; font-style: italic\; font-stretch: normal\; font-size: 22px\; line-height: normal\; font-family: &quot\;courier new&quot\;\, courier-ps-w01\, courier-ps-w02\, courier-ps-w10\, monospace\; color: rgb(158\, 89\, 0)\;"><span style="margin: 0px\; padding: 0px\; border: 0px\; outline: 0px\; vertical-align: baseline\; background: transparent\; font-style: normal\;"><span style="margin: 0px\; padding: 0px\; border: 0px\; outline: 0px\; vertical-align: baseline\; background: transparent\; color: rgb(16\, 62\, 172)\;"><span style="margin: 0px\; padding: 0px\; border: 0px\; outline: 0px\; vertical-align: baseline\; background: transparent\;"><span style="margin: 0px\; padding: 0px\; border: 0px\; outline: 0px\; vertical-align: baseline\; background: transparent\; font-family: raleway\, sans-serif\;"><span class="wixGuard" style="margin: 0px\; padding: 0px\; border: 0px\; outline: 0px\; vertical-align: baseline\; background: transparent\;">&#8203\;</span></span></span></span></span></p>\n
LOCATION:
UID:e.2591.852
SEQUENCE:3
DTSTAMP:20260425T200746Z
URL:http://seattlesouthsidechamber.com/events/details/des-moines-waterland-festival-parade-852
END:VEVENT

END:VCALENDAR
