BEGIN:VCALENDAR
VERSION:2.0
PRODID:-//ChamberMaster//Event Calendar 2.0//EN
METHOD:PUBLISH
X-PUBLISHED-TTL:P3D
REFRESH-INTERVAL:P3D
CALSCALE:GREGORIAN
BEGIN:VEVENT
DTSTART:20181103T170000Z
DTEND:20181103T230000Z
X-MICROSOFT-CDO-ALLDAYEVENT:FALSE
SUMMARY:Des Moines Waterfront Farmers Market - Holiday Market
DESCRIPTION:FREE ADMISSION Des Moines Waterfront Farmers Market is hosting a Holiday Market on November 3rd. FREE Holiday Wreath making class\, Wine Tastings\, Craft and Local artist vendors\, Local Farmers Bakers .... And so much MORE!!
X-ALT-DESC;FMTTYPE=text/html:FREE ADMISSION Des Moines Waterfront Farmers Market is hosting a Holiday Market on November 3rd. FREE Holiday Wreath making class\, Wine Tastings\, Craft and Local artist vendors\, Local Farmers Bakers .... And so much MORE!!
LOCATION:Des Moines Beach Park Event Center Auditorium - 22030 Cliff Ave S\, Des Moines\, WA 98198
UID:e.2591.2588
SEQUENCE:3
DTSTAMP:20260424T173742Z
URL:http://seattlesouthsidechamber.com/events/details/des-moines-waterfront-farmers-market-holiday-market-2588
END:VEVENT

END:VCALENDAR
