BEGIN:VCALENDAR
VERSION:2.0
PRODID:-//ChamberMaster//Event Calendar 2.0//EN
METHOD:PUBLISH
X-PUBLISHED-TTL:P3D
REFRESH-INTERVAL:P3D
CALSCALE:GREGORIAN
BEGIN:VEVENT
DTSTART:20181031T220000Z
DTEND:20181101T010000Z
X-MICROSOFT-CDO-ALLDAYEVENT:FALSE
SUMMARY:Des Moines Trick or Treat Path & Carnival
DESCRIPTION:Community Trick-or-Treat Path presented by Destination Des Moines along Marine View Drive and 7th Ave in the Des Moines Marina District. Participating businesses will be posted on the website and posters and will display a poster in their window or door.\n\nCarnival at the Des Moines Field House presented by the Des Moines Area Food Bank. \n\nThis event is 5-8pm at the Des Moines Field House 1000 S. 220th Street. Frights and games for children 12 and under. Children under the age of 5 must be accompanied by an adult. $5 per child. Non-perishable food donations accepted for Des Moines Food bank during the event. Call 206-870-6527 for more information.
X-ALT-DESC;FMTTYPE=text/html:<strong>Community Trick-or-Treat Path presented by Destination Des Moines</strong>&nbsp\;along Marine View Drive and 7th Ave in the Des Moines Marina District. Participating businesses will be posted on the website and posters and will display a poster in their window or door.<br />\n<strong>Carnival at the Des Moines Field House</strong>&nbsp\;<strong>presented by the Des Moines Area Food Bank.&nbsp\;</strong><br />\nThis event is 5-8pm at the Des Moines Field House 1000 S. 220th Street. Frights and games for children 12 and under. Children under the age of 5 must be accompanied by an adult. $5 per child. Non-perishable food donations accepted for Des Moines Food bank during the event. Call 206-870-6527 for more information.&nbsp\;
LOCATION:Des Moines Marina District along Marine View Drive and 7th Ave Des Moines Field House 1000 S. 220th St.\, Des Moines\, WA 98198
UID:e.2591.2520
SEQUENCE:3
DTSTAMP:20260424T202937Z
URL:http://seattlesouthsidechamber.com/events/details/des-moines-trick-or-treat-path-carnival-2520
END:VEVENT

END:VCALENDAR
