BEGIN:VCALENDAR
VERSION:2.0
PRODID:-//ChamberMaster//Event Calendar 2.0//EN
METHOD:PUBLISH
X-PUBLISHED-TTL:P3D
REFRESH-INTERVAL:P3D
CALSCALE:GREGORIAN
BEGIN:VEVENT
DTSTART:20190420T160000Z
DTEND:20190420T190000Z
X-MICROSOFT-CDO-ALLDAYEVENT:FALSE
SUMMARY:Des Moines Earth Day Clean-Up
DESCRIPTION:Des Moines Parks assists with coordinated clean-up activities\, in parks\, Puget Sound and on the beaches from 9am to 12pm - come join us. Volunteers will meet at the Field House (1000 S 220th St in Des Moines).
X-ALT-DESC;FMTTYPE=text/html:<span background-color:="" font-size:="" lucida="" sans="" style="font-family: LeagueGothicRegular\, " trebuchet="">Des Moines Parks assists with coordinated clean-up activities\, in parks\, Puget Sound and on the beaches from 9am to 12pm - come join us. Volunteers will meet at the Field House (1000 S 220th St in Des Moines).</span>
LOCATION:Des Moines\, WA
UID:e.2591.2739
SEQUENCE:3
DTSTAMP:20260424T105716Z
URL:http://seattlesouthsidechamber.com/events/details/des-moines-earth-day-clean-up-2739
END:VEVENT

END:VCALENDAR
