BEGIN:VCALENDAR
VERSION:2.0
PRODID:-//ChamberMaster//Event Calendar 2.0//EN
METHOD:PUBLISH
X-PUBLISHED-TTL:P3D
REFRESH-INTERVAL:P3D
CALSCALE:GREGORIAN
BEGIN:VEVENT
DTSTART;VALUE=DATE:20171007
DTEND;VALUE=DATE:20171008
TRANSP:TRANSPARENT
X-MICROSOFT-CDO-ALLDAYEVENT:TRUE
SUMMARY:DAWN's An Evening of Promise Gala Auction
DESCRIPTION:Join DAWN at their An Evening of Promise Gala Auction on Saturday October 7th at the Bellevue Hyatt.\n\n\n\nDawn shelters and empowers survivors of domestic abuse in South King County and helps to keep us all safe by educating our community to respond to and prevent violence.
X-ALT-DESC;FMTTYPE=text/html:<span style="color: rgb(0\, 0\, 0)\; font-family: &quot\;Source Sans Pro&quot\;\, Arial\, &quot\;Helvetica Neue&quot\;\, Helvetica\, sans-serif\; font-size: 18px\;">Join DAWN at their An Evening of Promise Gala Auction on Saturday October 7th at the Bellevue Hyatt.<br />\n<br />\nDawn shelters and empowers survivors of domestic abuse in South King County and helps to keep us all safe by educating our community to respond to and prevent violence.</span>
LOCATION:Bellevue Hyatt
UID:e.2591.557
SEQUENCE:3
DTSTAMP:20260425T153237Z
URL:http://seattlesouthsidechamber.com/events/details/dawn-s-an-evening-of-promise-gala-auction-557
END:VEVENT

END:VCALENDAR
