BEGIN:VCALENDAR
VERSION:2.0
PRODID:-//ChamberMaster//Event Calendar 2.0//EN
METHOD:PUBLISH
X-PUBLISHED-TTL:P3D
REFRESH-INTERVAL:P3D
CALSCALE:GREGORIAN
BEGIN:VEVENT
DTSTART:20190322T160000Z
DTEND:20190322T190000Z
X-MICROSOFT-CDO-ALLDAYEVENT:FALSE
SUMMARY:Crunchy Conversations with Awaken Your Greatness
DESCRIPTION:Crunchy Conversations Workshop is designed to help leaders and managers effectively handle difficult conversations in the workplace in a way that everyone can feel good about. The days of choosing to be 'nice' OR get results are over. \n\nThis isn't your typical workshop. It's filled with experiential learning exercises and activities that are designed to help you understand and learn the materials at a deep level for lasting impact.\n\n \n\nNot only will you be given tools on how to approach any workplace situation\, you will also get the opportunity to practice with your own real life crunchy conversation and receive helpful tips\, tricks and coaching to ensure success.
X-ALT-DESC;FMTTYPE=text/html:Crunchy Conversations Workshop is designed to help leaders and managers effectively handle difficult conversations in the workplace in a way that everyone can feel good about. The days of choosing to be &lsquo\;nice&rsquo\; OR get results are over.&nbsp\;<br />\nThis isn&#39\;t your typical workshop. It&#39\;s filled with experiential learning exercises and activities that are designed to help you understand and learn the materials at a deep level for lasting impact.<br />\n&nbsp\;<br />\nNot only will you be given tools on how to approach any workplace situation\, you will also get the opportunity to practice with your own real life crunchy conversation and receive helpful tips\, tricks and coaching to ensure success.&nbsp\;
LOCATION:Chamber Office 14220 Interurban Ave S #134 Tukwila\, WA 98168
UID:e.2591.2837
SEQUENCE:3
DTSTAMP:20260424T111550Z
URL:http://seattlesouthsidechamber.com/events/details/crunchy-conversations-with-awaken-your-greatness-2837
END:VEVENT

END:VCALENDAR
