BEGIN:VCALENDAR
VERSION:2.0
PRODID:-//ChamberMaster//Event Calendar 2.0//EN
METHOD:PUBLISH
X-PUBLISHED-TTL:P3D
REFRESH-INTERVAL:P3D
CALSCALE:GREGORIAN
BEGIN:VEVENT
DTSTART:20181208T170000Z
DTEND:20181209T000000Z
X-MICROSOFT-CDO-ALLDAYEVENT:FALSE
SUMMARY:Craft Fair at Foster High School
DESCRIPTION:2018 Arts and Crafts Fair. Come shop for unique crafts made by local vendors and help support the Future Business Leaders of America. FBLA  is a career and leadership development program that helps aspiring business leaders flourish.
X-ALT-DESC;FMTTYPE=text/html:2018 Arts and Crafts Fair. Come&nbsp\;shop for unique crafts made by local vendors and help support the Future Business Leaders of America. FBLA&nbsp\; is a career and leadership development program that helps aspiring business leaders flourish.
LOCATION:Foster High School 4242 S 144th St Tukwila\, WA 98168
UID:e.2591.2631
SEQUENCE:3
DTSTAMP:20260424T155029Z
URL:http://seattlesouthsidechamber.com/events/details/craft-fair-at-foster-high-school-2631
END:VEVENT

END:VCALENDAR
