BEGIN:VCALENDAR
VERSION:2.0
PRODID:-//ChamberMaster//Event Calendar 2.0//EN
METHOD:PUBLISH
X-PUBLISHED-TTL:P3D
REFRESH-INTERVAL:P3D
CALSCALE:GREGORIAN
BEGIN:VEVENT
DTSTART:20190608T170000Z
DTEND:20190608T173000Z
X-MICROSOFT-CDO-ALLDAYEVENT:FALSE
SUMMARY:CORT Furniture Outlet Ribbon Cutting
DESCRIPTION:Join us for the ribbon cutting celebrating CORT Furniture Outlet's Grand Re-Opening. Stick around to take part in their continued festivities\, including live 92.5 Radio Remote\, free food\, and prizes every hour.
X-ALT-DESC;FMTTYPE=text/html:Join us for the ribbon cutting celebrating CORT Furniture Outlet&#39\;s Grand Re-Opening. Stick around to take part in their continued festivities\, including live 92.5 Radio Remote\, free food\, and prizes every hour.
LOCATION:CORT Rental Showroom & Clearance Center 1230 Andover Park East Tukwila\, WA 98188
UID:e.2591.2971
SEQUENCE:3
DTSTAMP:20260424T025520Z
URL:http://seattlesouthsidechamber.com/events/details/cort-furniture-outlet-ribbon-cutting-2971
END:VEVENT

END:VCALENDAR
