BEGIN:VCALENDAR
VERSION:2.0
PRODID:-//ChamberMaster//Event Calendar 2.0//EN
METHOD:PUBLISH
X-PUBLISHED-TTL:P3D
REFRESH-INTERVAL:P3D
CALSCALE:GREGORIAN
BEGIN:VEVENT
DTSTART:20190307T200000Z
DTEND:20190307T210000Z
X-MICROSOFT-CDO-ALLDAYEVENT:FALSE
SUMMARY:Continuing Education Luncheon - Budgeting For Small Business-Note this event is SPANISH speaking only
DESCRIPTION:Budgeting for small business - free lunch will be served.\n\nNote this event is SPANISH speaking only
X-ALT-DESC;FMTTYPE=text/html:<p>Budgeting for small business - free lunch will be served.</p>\n\n<p><strong>Note this event is SPANISH speaking only</strong></p>\n
LOCATION:Discover Burien 427 SW 152nd Burien\, WA 98166
UID:e.2591.2815
SEQUENCE:3
DTSTAMP:20260424T105826Z
URL:http://seattlesouthsidechamber.com/events/details/continuing-education-luncheon-budgeting-for-small-business-note-this-event-is-spanish-speaking-only-2815
END:VEVENT

END:VCALENDAR
