BEGIN:VCALENDAR
VERSION:2.0
PRODID:-//ChamberMaster//Event Calendar 2.0//EN
METHOD:PUBLISH
X-PUBLISHED-TTL:P3D
REFRESH-INTERVAL:P3D
CALSCALE:GREGORIAN
BEGIN:VEVENT
DTSTART:20180905T163000Z
DTEND:20180905T193000Z
X-MICROSOFT-CDO-ALLDAYEVENT:FALSE
SUMMARY:Committee Meeting to discuss the Hotel/Motel Tax - Meeting 3
DESCRIPTION:Legislation that will discuss the allocation of the revenue raised by the Lodging Tax\, better known as the Hotel/Motel Tax.
X-ALT-DESC;FMTTYPE=text/html:Legislation that will discuss the allocation of the revenue raised by the Lodging Tax\, better known as the Hotel/Motel Tax.
LOCATION:Council Chambers\, 10th Flr. King County Courthouse. 516 3rd Ave. Seattle
UID:e.2591.2159
SEQUENCE:3
DTSTAMP:20260424T204521Z
URL:http://seattlesouthsidechamber.com/events/details/committee-meeting-to-discuss-the-hotel-motel-tax-meeting-3-2159
END:VEVENT

END:VCALENDAR
