BEGIN:VCALENDAR
VERSION:2.0
PRODID:-//ChamberMaster//Event Calendar 2.0//EN
METHOD:PUBLISH
X-PUBLISHED-TTL:P3D
REFRESH-INTERVAL:P3D
CALSCALE:GREGORIAN
BEGIN:VEVENT
DTSTART:20180926T150000Z
DTEND:20180927T000000Z
X-MICROSOFT-CDO-ALLDAYEVENT:FALSE
SUMMARY:CLIMATE ADAPTATION PLANNING FOR EMERGENCY MANAGEMENT AWR-347
DESCRIPTION:Join us for our Climate Adaptation Planning for Emergency Management course and learn about the principles of climate adaptation planning for emergency management and first response processes. Enhance your ability to discuss the impact of weather hazards on critical infrastructure and key resources\, and explain how climate change projects will affect those impacts. Build knowledge regarding the processes of common weather hazards\, climate variability\, climate change\, and risk assessment paradigms.\n\n   Weather Hazards and Climate Patterns\n\n   Assessing Infrastructure and Asset Impacts\n\n   Climate Adaptation Strategies
X-ALT-DESC;FMTTYPE=text/html:Join us for our Climate Adaptation Planning for Emergency Management course and learn about the principles of climate adaptation planning for emergency management and first response processes. Enhance your ability to discuss the impact of weather hazards on critical infrastructure and key resources\, and explain how climate change projects will affect those impacts. Build knowledge regarding the processes of common weather hazards\, climate variability\, climate change\, and risk assessment paradigms.<br />\n&#10003\;&nbsp\; Weather Hazards and Climate Patterns<br />\n&#10003\;&nbsp\; Assessing Infrastructure and Asset Impacts<br />\n&#10003\;&nbsp\; Climate Adaptation Strategies
LOCATION:King County Regional Communications and Emergency Coordination Center (RCECC) 3511 Northeast Second Street Renton\, WA 98056
UID:e.2591.2495
SEQUENCE:3
DTSTAMP:20260424T203757Z
URL:http://seattlesouthsidechamber.com/events/details/climate-adaptation-planning-for-emergency-management-awr-347-2495
END:VEVENT

END:VCALENDAR
