BEGIN:VCALENDAR
VERSION:2.0
PRODID:-//ChamberMaster//Event Calendar 2.0//EN
METHOD:PUBLISH
X-PUBLISHED-TTL:P3D
REFRESH-INTERVAL:P3D
CALSCALE:GREGORIAN
BEGIN:VEVENT
DTSTART:20170811T003000Z
DTEND:20170811T023000Z
X-MICROSOFT-CDO-ALLDAYEVENT:FALSE
SUMMARY:City of Tukwila Public Safety Plan Meeting
DESCRIPTION:The City of Tukwila invites you to come to their in-person open house on Thursday August 10 from 5:30-7:30pm at the Tukwila Fire Station 54. You can lean where new public safety facilities could be located and meet the architects.\n\n	FREE ice cream social\n	Parking available across the street at Foster High School\n	FREE bouncy house for kids.\n\n\n\nVisit the 24/7 online open house at TukwilaPublicSafetyPlan.Participate.Online\n\n\n\nQuestions? Call 206-454-7566 or PublicSafeyPlan@TukwilaWA.gox
X-ALT-DESC;FMTTYPE=text/html:The City of Tukwila&nbsp\;invites you to come to their in-person open house on Thursday August 10 from 5:30-7:30pm at the Tukwila&nbsp\;Fire Station 54. You can lean where new public safety facilities could be located and meet the architects.\n<ul>\n	<li>FREE ice cream social</li>\n	<li>Parking available across the street at Foster High School</li>\n	<li>FREE bouncy house for kids.</li>\n</ul>\n<br />\nVisit the 24/7 online open house at TukwilaPublicSafetyPlan.Participate.Online<br />\n<br />\nQuestions? Call 206-454-7566 or PublicSafeyPlan@TukwilaWA.gox&nbsp\;&nbsp\;&nbsp\;&nbsp\;
LOCATION:Tukwila Fire Station 54 4237 S 144th St Tukwila\, WA 98168
UID:e.2591.856
SEQUENCE:3
DTSTAMP:20260425T182932Z
URL:http://seattlesouthsidechamber.com/events/details/city-of-tukwila-public-safety-plan-meeting-856
END:VEVENT

END:VCALENDAR
