BEGIN:VCALENDAR
VERSION:2.0
PRODID:-//ChamberMaster//Event Calendar 2.0//EN
METHOD:PUBLISH
X-PUBLISHED-TTL:P3D
REFRESH-INTERVAL:P3D
CALSCALE:GREGORIAN
BEGIN:VEVENT
DTSTART:20170318T170000Z
DTEND:20170318T190000Z
X-MICROSOFT-CDO-ALLDAYEVENT:FALSE
SUMMARY:City of Tukwila Public Safety Plan
DESCRIPTION:Residents of Tukwila recently approved a Public Safety Bond to ensure a safer Tukwila for generations to come. The bond pays for vital updated to safety facilities and equipment\, organized under the Public Safety Plan. The City of Tukwila wants to share their efforts and hear from you!\n\n\n\nWays to learn about the Public Safety Plan and provide input:\n\nCome to this Open house at the Tukwila Fire Station 54 for a free pancake breakfast. Parking is available across the street at Foster High School\, and child care will be provided. Or you can visit the 24/7 online open house at tukwilapublicsafetyplan.participate.online
X-ALT-DESC;FMTTYPE=text/html:Residents of Tukwila recently approved a Public Safety Bond to ensure a safer Tukwila for generations to come. The bond pays for vital updated to safety facilities and equipment\, organized under the Public Safety Plan. The City of Tukwila&nbsp\;wants to share their efforts and hear from you!<br />\n<br />\nWays to learn about the Public Safety Plan and provide input:<br />\nCome to this Open house at the Tukwila Fire Station 54 for a free pancake breakfast. Parking is available across the street at Foster High School\, and child care will be provided. Or you can visit the 24/7 online open house at <a href="http://tukwilapublicsafetyplan.participate.online">tukwilapublicsafetyplan.participate.online</a>
LOCATION:Tukwila Fire Station 54 4237 S 144th ST Tukwila\, WA 98168
UID:e.2591.632
SEQUENCE:3
DTSTAMP:20260426T023721Z
URL:http://seattlesouthsidechamber.com/events/details/city-of-tukwila-public-safety-plan-632
END:VEVENT

END:VCALENDAR
