BEGIN:VCALENDAR
VERSION:2.0
PRODID:-//ChamberMaster//Event Calendar 2.0//EN
METHOD:PUBLISH
X-PUBLISHED-TTL:P3D
REFRESH-INTERVAL:P3D
CALSCALE:GREGORIAN
BEGIN:VEVENT
DTSTART:20181127T030000Z
DTEND:20181127T050000Z
X-MICROSOFT-CDO-ALLDAYEVENT:FALSE
SUMMARY:City of Tukwila - Public Hearing Notice
DESCRIPTION:Renewing a six month moratorium within the Tukwila International Boulevard study area in the City of Tukwila.
X-ALT-DESC;FMTTYPE=text/html:Renewing a six month moratorium within the Tukwila International Boulevard study area in the City of Tukwila.
LOCATION:Council Chambers at Tukwila City Hall 6200 Southcenter Blvd Tukwila\, WA 98188
UID:e.2591.2614
SEQUENCE:3
DTSTAMP:20260424T173651Z
URL:http://seattlesouthsidechamber.com/events/details/city-of-tukwila-public-hearing-notice-2614
END:VEVENT

END:VCALENDAR
