BEGIN:VCALENDAR
VERSION:2.0
PRODID:-//ChamberMaster//Event Calendar 2.0//EN
METHOD:PUBLISH
X-PUBLISHED-TTL:P3D
REFRESH-INTERVAL:P3D
CALSCALE:GREGORIAN
BEGIN:VEVENT
DTSTART:20181114T030000Z
DTEND:20181114T050000Z
X-MICROSOFT-CDO-ALLDAYEVENT:FALSE
SUMMARY:City of Tukwila Public Hearing Notice
DESCRIPTION:NOTICE IS HEREBY GIVEN that the Tukwila City Council will hold a public hearing on  in the Council Chambers at Tukwila City Hall\, 6200 Southcenter Blvd.\, Tukwila\, WA\n\nAn ordinance of the City Council of the City of Tukwila increasing the regular property tax levy one percent from the previous year commencing January 1\, 2019\, on all property\, both real and personal\, in compliance with RCW 84.55.120\; providing for severability and establishing an effective date.\n\n \n\nTHE PRELIMINARY 2019-2020 BUDGET AND THE 2019-2024 CAPITAL IMPROVEMENT PROGRAM\n\n \n\nBudget Summary:\n\n{subject to change prior to final Council approval)\n\n \n\n \n\n	\n		\n			General Fund\n			$151\,525\,273\n		\n		\n			Special Revenue\n			3\,287\,809\n		\n		\n			Debt Service\n			19\,302\,383\n		\n		\n			Capital Projects\n			166\,971\,667\n		\n		\n			Enterprise\n			73\,813\,791\n		\n		\n			Internal Service\n			26\,366\,623\n		\n		\n			Trust and Agency\n			1\,597\,856\n		\n		\n			TOTAL ALL FUNDS\n			$442\,865\,402\n		\n	\n\n \n\nPublic comments will also be accepted for:\n\n \nAN ORDINANCE AMENDING ORDINANCE NO. 2515\, WHICH ADOPTED THE CITY OF TUKWILA'S BIENNIAL BUDGET FOR THE 2017-2018 BIENNIUM\, TO ADOPT AN AMENDED FINAL BUDGET\; PROVIDING FOR SEVERABILITY\; AND ESTABLISHING AN EFFECTIVE DATE.
X-ALT-DESC;FMTTYPE=text/html:NOTICE IS HEREBY GIVEN that the Tukwila City Council will hold a public hearing on&nbsp\; in the Council Chambers at Tukwila City Hall\, 6200 Southcenter Blvd.\, Tukwila\, WA<br />\nAn ordinance of the City Council of the City of Tukwila increasing the regular property tax levy one percent from the previous year commencing January 1\, 2019\, on all property\, both real and personal\, in compliance with RCW 84.55.120\; providing for severability and establishing an effective date.<br />\n&nbsp\;<br />\nTHE PRELIMINARY 2019-2020 BUDGET AND THE 2019-2024 CAPITAL IMPROVEMENT PROGRAM<br />\n&nbsp\;<br />\nBudget Summary:<br />\n{subject to change prior to final Council approval)<br />\n&nbsp\;<br />\n&nbsp\;\n<table border="0" cellpadding="0" cellspacing="0">\n	<tbody>\n		<tr>\n			<td>General Fund</td>\n			<td>$151\,525\,273</td>\n		</tr>\n		<tr>\n			<td>Special Revenue</td>\n			<td>3\,287\,809</td>\n		</tr>\n		<tr>\n			<td>Debt Service</td>\n			<td>19\,302\,383</td>\n		</tr>\n		<tr>\n			<td>Capital Projects</td>\n			<td>166\,971\,667</td>\n		</tr>\n		<tr>\n			<td>Enterprise</td>\n			<td>73\,813\,791</td>\n		</tr>\n		<tr>\n			<td>Internal Service</td>\n			<td>26\,366\,623</td>\n		</tr>\n		<tr>\n			<td>Trust and Agency</td>\n			<td>1\,597\,856</td>\n		</tr>\n		<tr>\n			<td>TOTAL ALL FUNDS</td>\n			<td>$442\,865\,402</td>\n		</tr>\n	</tbody>\n</table>\n&nbsp\;<br />\nPublic comments will also be accepted for:<br />\n&nbsp\;\n<h1>AN ORDINANCE AMENDING ORDINANCE NO. 2515\, WHICH ADOPTED THE CITY OF TUKWILA&#39\;S BIENNIAL BUDGET FOR THE 2017-2018 BIENNIUM\, TO ADOPT AN AMENDED FINAL BUDGET\; PROVIDING FOR SEVERABILITY\; AND ESTABLISHING AN EFFECTIVE DATE.</h1>\n
LOCATION:Council Chambers at Tukwila City Hall 6200 Southcenter Blvd.\, Tukwila\, WA
UID:e.2591.2593
SEQUENCE:3
DTSTAMP:20260424T173608Z
URL:http://seattlesouthsidechamber.com/events/details/city-of-tukwila-public-hearing-notice-2593
END:VEVENT

END:VCALENDAR
