BEGIN:VCALENDAR
VERSION:2.0
PRODID:-//ChamberMaster//Event Calendar 2.0//EN
METHOD:PUBLISH
X-PUBLISHED-TTL:P3D
REFRESH-INTERVAL:P3D
CALSCALE:GREGORIAN
BEGIN:VEVENT
DTSTART:20190326T020000Z
DTEND:20190326T050000Z
X-MICROSOFT-CDO-ALLDAYEVENT:FALSE
SUMMARY:City of Tukwila Public Hearing
DESCRIPTION:Public Hearing - 3rd Amendment to 223 Andover Park East Development Agreement\n\n\n\nAll interested persons are invited to be present to voice approal\, disapproval\, or opinions on this issue. For those unable to attend in person\, you may submit written testimony to the City Clerk's office until 5:00pm on the day of the meeting.
X-ALT-DESC;FMTTYPE=text/html:<span style="color: rgb(100\, 100\, 100)\; font-family: &quot\;Open Sans&quot\;\, Helvetica\, sans-serif\, Arial\; font-size: 13.5px\;">Public Hearing - 3rd Amendment to 223 Andover Park East Development Agreement<br />\n<br />\nAll interested persons are invited to be present to voice approal\, disapproval\, or opinions on this issue. For those unable to attend in person\, you may submit written testimony to the City Clerk&#39\;s office until 5:00pm on the day of the meeting.</span><br />\n<br />\n&nbsp\;
LOCATION:Council Chambers at Tukwila City Hall 6200 Southcenter Blvd.\, Tukwila\, WA Tukwila City Hall is wheelchair accessible.
UID:e.2591.2884
SEQUENCE:3
DTSTAMP:20260424T110832Z
URL:http://seattlesouthsidechamber.com/events/details/city-of-tukwila-public-hearing-2884
END:VEVENT

END:VCALENDAR
