BEGIN:VCALENDAR
VERSION:2.0
PRODID:-//ChamberMaster//Event Calendar 2.0//EN
METHOD:PUBLISH
X-PUBLISHED-TTL:P3D
REFRESH-INTERVAL:P3D
CALSCALE:GREGORIAN
BEGIN:VEVENT
DTSTART:20181102T170000Z
DTEND:20181102T180000Z
X-MICROSOFT-CDO-ALLDAYEVENT:FALSE
SUMMARY:City of Tukwila Opportunity Zone Meeting
DESCRIPTION:City of Tukwila is hosting on Opportunity Zone investment potential on Tukwila International Blvd. They will provide an overview on how Opportunity Zones work\, have presentations from organizations forming opportunity funds\, and provide a chance for networking with developers and property owners. We will also be offering a tour of development opportunities on Tukwila International Blvd. It will be held on November 2nd at 10:00 AM at the Sullivan Center in Tukwila Village.
X-ALT-DESC;FMTTYPE=text/html:<span style="font-family:calibri\,sans-serif\;"><span style="font-size:11.0pt\;">City of Tukwila is hosting on Opportunity Zone investment potential on Tukwila International Blvd. They will provide an overview on how Opportunity Zones work\, have presentations from organizations forming opportunity funds\, and provide a chance for networking with developers and property owners. We will also be offering a tour of development opportunities on Tukwila International Blvd. It will be held on November 2<sup>nd</sup> at 10:00 AM at the Sullivan Center in Tukwila Village.</span></span>
LOCATION:Sullivan Community Center 14350 Tukwila International Blvd Tukwila\, WA 98168
UID:e.2591.2509
SEQUENCE:3
DTSTAMP:20260424T173741Z
URL:http://seattlesouthsidechamber.com/events/details/city-of-tukwila-opportunity-zone-meeting-2509
END:VEVENT

END:VCALENDAR
