BEGIN:VCALENDAR
VERSION:2.0
PRODID:-//ChamberMaster//Event Calendar 2.0//EN
METHOD:PUBLISH
X-PUBLISHED-TTL:P3D
REFRESH-INTERVAL:P3D
CALSCALE:GREGORIAN
BEGIN:VEVENT
DTSTART:20171114T030000Z
DTEND:20171114T050000Z
X-MICROSOFT-CDO-ALLDAYEVENT:FALSE
SUMMARY:City of Tukwila Notice of Public Hearing
DESCRIPTION:CITY OF TUKWILA NOTICE OF PUBLIC HEARING\n\n\n\nNOTICE IS HEREBY GIVEN that the Tukwila City Council will hold a public hearing on Monday\, November 13\, 2017 beginning at 7:00 p. m. in the Council Chambers at Tukwila City Hall\, 6200 Southcenter Blvd.\, Tukwila\, WA to consider the following: \n\n\n\nAn ordinance of the City Council of the City of Tukwila increasing the regular property tax levy one percent from the previous year commencing January 1\, 2018\, on all property\, both real and personal\, in compliance with RCW 84.55. 120\; providing for severability and establishing an effective date. \n\n\n\nAll interested persons are invited to be present to voice approval\, disapproval\, or opinions on this issue. For those unable to attend in person\, you may submit written testimony to the City Clerk' s office until 5: 00 p. m. on the day of the meeting.  \n\n\n\nTukwila City Hall is wheelchair accessible. The City strives to accommodate people with disabilities. Reasonable accommodations are available at the public hearing with advance notice. This notice is also available in alternate formats for individuals with disabilities. Please contact the City Clerk' s Office at TukwilaCityClerk@Tukwilawa. gov for assistance. \n\n\n\nChristy O' Flaherty\, MMC\, City Clerk\n\nPublished Seattle Times   October 30\, 2017
X-ALT-DESC;FMTTYPE=text/html:CITY OF TUKWILA NOTICE OF PUBLIC HEARING<br />\n<br />\nNOTICE IS HEREBY GIVEN that the Tukwila City Council will hold a public hearing on Monday\, November 13\, 2017 beginning at 7:00 p. m. in the Council Chambers at Tukwila City Hall\, 6200 Southcenter Blvd.\, Tukwila\, WA to consider the following:&nbsp\;<br />\n<br />\nAn ordinance of the City Council of the City of Tukwila increasing the regular property tax levy one percent from the previous year commencing January 1\, 2018\, on all property\, both real and personal\, in compliance with RCW 84.55. 120\; providing for severability and establishing an effective date.&nbsp\;<br />\n<br />\nAll interested persons are invited to be present to voice approval\, disapproval\, or opinions on this issue. For those unable to attend in person\, you may submit written testimony to the City Clerk&#39\; s office until 5: 00 p. m. on the day of the meeting.&nbsp\;&nbsp\;<br />\n<br />\nTukwila City Hall is wheelchair accessible. The City strives to accommodate people with disabilities. Reasonable accommodations are available at the public hearing with advance notice. This notice is also available in alternate formats for individuals with disabilities. Please contact the City Clerk&#39\; s Office at TukwilaCityClerk@Tukwilawa. gov for assistance.&nbsp\;<br />\n<br />\nChristy O&#39\; Flaherty\, MMC\, City Clerk<br />\nPublished Seattle Times &mdash\; October 30\, 2017
LOCATION:
UID:e.2591.997
SEQUENCE:3
DTSTAMP:20260425T134401Z
URL:http://seattlesouthsidechamber.com/events/details/city-of-tukwila-notice-of-public-hearing-997
END:VEVENT

END:VCALENDAR
