BEGIN:VCALENDAR
VERSION:2.0
PRODID:-//ChamberMaster//Event Calendar 2.0//EN
METHOD:PUBLISH
X-PUBLISHED-TTL:P3D
REFRESH-INTERVAL:P3D
CALSCALE:GREGORIAN
BEGIN:VEVENT
DTSTART:20171017T020000Z
DTEND:20171017T040000Z
X-MICROSOFT-CDO-ALLDAYEVENT:FALSE
SUMMARY:City of Tukwila Notice of Public Hearing
DESCRIPTION:CITY OF TUKWILA NOTICE OF PUBLIC HEARING\n\n\n\nNotice is hereby given that the City of Tukwila City Council will be holding a public hearing on October 16\, 2017 at 7:00 PM in the Council Chambers located at 6200 Southcenter Blvd.\, Tukwila\, WA\, to discuss the following:\n\n\n\nQUAIL PARK MULTIFAMILY SENIOR HOUSING/ASSISTED LIVING PROJECT\n\n\n\nFILE NUMBER: PL16-0020\, L16-0022 Design Review\, L16-0023 Planned Residential Development\n\n\n\nAPPLICANT: Justin Hunt\, Ankrom Moisan Architects\n\nREQUEST: Approve Design Review and Planned Residential Development (PRD) applications for a new multifamily senior housing facility consisting of 121 assisted living units and 24 memory care units.\n\nLOCATION: 13112 Military Road South\, Tukwila\, WA 98168\, APN# 1623049179 (Quasi-Judicial)\n\n\n\nInformation on the above project may be obtained at the Tukwila Planning Division at 206-431-3670. All interested persons are invited to be present to voice approval\, disapproval\, or opinions on this issue.\n\n\n\nFor those unable to attend in person\, you may submit written testimony to the City Clerk's office until 5:00 p.m. on the day of the meeting. Tukwila City Hall is wheelchair accessible. The City strives to accommodate people with disabilities. Reasonable accommodations are available at the public hearing with advance notice.\n\n\n\nThis notice is also available in alternate formats for individuals with disabilities. Please contact the City Clerk's Office at TukwilaCityClerk@Tukwilawa.gov for assistance.\n\n\n\nChristy O'Flaherty\, MMC\, City Clerk\n\n\n\nPublished: Seattle Times   October 2\, 2017
X-ALT-DESC;FMTTYPE=text/html:CITY OF TUKWILA NOTICE OF PUBLIC HEARING<br />\n<br />\nNotice is hereby given that the City of Tukwila City Council will be holding a public hearing on October 16\, 2017 at 7:00 PM in the Council Chambers located at 6200 Southcenter Blvd.\, Tukwila\, WA\, to discuss the following:<br />\n<br />\nQUAIL PARK MULTIFAMILY SENIOR HOUSING/ASSISTED LIVING PROJECT<br />\n<br />\nFILE NUMBER: PL16-0020\, L16-0022 Design Review\, L16-0023 Planned Residential Development<br />\n<br />\nAPPLICANT: Justin Hunt\, Ankrom Moisan Architects<br />\nREQUEST: Approve Design Review and Planned Residential Development (PRD) applications for a new multifamily senior housing facility consisting of 121 assisted living units and 24 memory care units.<br />\nLOCATION: 13112 Military Road South\, Tukwila\, WA 98168\, APN# 1623049179 (Quasi-Judicial)<br />\n<br />\nInformation on the above project may be obtained at the Tukwila Planning Division at 206-431-3670. All interested persons are invited to be present to voice approval\, disapproval\, or opinions on this issue.<br />\n<br />\nFor those unable to attend in person\, you may submit written testimony to the City Clerk&rsquo\;s office until 5:00 p.m. on the day of the meeting. Tukwila City Hall is wheelchair accessible. The City strives to accommodate people with disabilities. Reasonable accommodations are available at the public hearing with advance notice.<br />\n<br />\nThis notice is also available in alternate formats for individuals with disabilities. Please contact the City Clerk&rsquo\;s Office at TukwilaCityClerk@Tukwilawa.gov for assistance.<br />\n<br />\nChristy O&rsquo\;Flaherty\, MMC\, City Clerk<br />\n<br />\nPublished: Seattle Times &ndash\; October 2\, 2017
LOCATION:The Council Chambers located at 6200 Southcenter Blvd.\, Tukwila\, WA\,
UID:e.2591.993
SEQUENCE:3
DTSTAMP:20260425T153256Z
URL:http://seattlesouthsidechamber.com/events/details/city-of-tukwila-notice-of-public-hearing-993
END:VEVENT

END:VCALENDAR
