BEGIN:VCALENDAR
VERSION:2.0
PRODID:-//ChamberMaster//Event Calendar 2.0//EN
METHOD:PUBLISH
X-PUBLISHED-TTL:P3D
REFRESH-INTERVAL:P3D
CALSCALE:GREGORIAN
BEGIN:VEVENT
DTSTART:20170926T020000Z
DTEND:20170926T040000Z
X-MICROSOFT-CDO-ALLDAYEVENT:FALSE
SUMMARY:City of Tukwila Notice of Public Hearing
DESCRIPTION:CITY OF TUKWILA NOTICE OF PUBLIC HEARING\n\n\n\nNotice is hereby given that the City of Tukwila City Council will hold a public hearing on September 25\, 2017 at 7: 00 p. m. in the Council Chambers located at 6200 Southcenter Blvd.\, Tukwila\, WA\, to discuss the following:\n\n\n\nPROPOSED COMPREHENSIVE PLAN/ ZONING AMENDMENTS FILE NUMBER: PL17-0042 Project Name: Transportation Element Revisions APPLICANT: City of Tukwila REQUEST: Amend the Transportation Element of the Comprehensive Plan to reflect the household and employment forecasts for 2031 instead of 2030. LOCATION: Citywide Legislative action) Information on the above project may be obtained at the Tukwila Planning Division at 206-431- 3670.\n\n\n\nAll interested persons are invited to be present to voice approval\, disapproval\, or opinions on this issue. For those unable to attend in person\, you may submit written testimony to the City Clerk's office until 5: 00 p. m. on the day of the meeting. Tukwila City Hall is wheelchair accessible.\n\n\n\nThe City strives to accommodate people with disabilities. Reasonable accommodations are available at the public hearing with advance notice. This notice is also available in alternate formats for individuals with disabilities.\n\n\n\nPlease contact the City Clerk's Office at TukwilaCityClerk@Tukwilawa. gov for assistance. Christy O' Flaherty\, MMC\, City Clerk Published: Seattle Times   September 11\, 2017
X-ALT-DESC;FMTTYPE=text/html:CITY OF TUKWILA NOTICE OF PUBLIC HEARING<br />\n<br />\nNotice is hereby given that the City of Tukwila City Council will hold a public hearing on September 25\, 2017 at 7: 00 p. m. in the Council Chambers located at 6200 Southcenter Blvd.\, Tukwila\, WA\, to discuss the following:<br />\n<br />\nPROPOSED COMPREHENSIVE PLAN/ ZONING AMENDMENTS FILE NUMBER: PL17-0042 Project Name: Transportation Element Revisions APPLICANT: City of Tukwila REQUEST: Amend the Transportation Element of the Comprehensive Plan to reflect the household and employment forecasts for 2031 instead of 2030. LOCATION: Citywide Legislative action) Information on the above project may be obtained at the Tukwila Planning Division at 206-431- 3670.<br />\n<br />\nAll interested persons are invited to be present to voice approval\, disapproval\, or opinions on this issue. For those unable to attend in person\, you may submit written testimony to the City Clerk&#39\;s office until 5: 00 p. m. on the day of the meeting. Tukwila City Hall is wheelchair accessible.<br />\n<br />\nThe City strives to accommodate people with disabilities. Reasonable accommodations are available at the public hearing with advance notice. This notice is also available in alternate formats for individuals with disabilities.<br />\n<br />\nPlease contact the City Clerk&#39\;s Office at TukwilaCityClerk@Tukwilawa. gov for assistance. Christy O&#39\; Flaherty\, MMC\, City Clerk Published: Seattle Times &mdash\; September 11\, 2017
LOCATION:6200 Southcenter Blvd.\, Tukwila\, WA
UID:e.2591.975
SEQUENCE:3
DTSTAMP:20260425T171955Z
URL:http://seattlesouthsidechamber.com/events/details/city-of-tukwila-notice-of-public-hearing-975
END:VEVENT

END:VCALENDAR
