BEGIN:VCALENDAR
VERSION:2.0
PRODID:-//ChamberMaster//Event Calendar 2.0//EN
METHOD:PUBLISH
X-PUBLISHED-TTL:P3D
REFRESH-INTERVAL:P3D
CALSCALE:GREGORIAN
BEGIN:VEVENT
DTSTART:20170906T020000Z
DTEND:20170906T040000Z
X-MICROSOFT-CDO-ALLDAYEVENT:FALSE
SUMMARY:City of Tukwila Notice of Public Hearing
DESCRIPTION:NOTICE IS HEREBY GIVEN that the Tukwila City Council will hold a public hearing on Tuesday\, September 5\, 2017 beginning at 7: 00 p. m. in the Council Chambers at Tukwila City Hall\, 6200 Southcenter Blvd.\, Tukwila\, WA to consider the following:\n\n\n\nOrdinance 42453\, passed July 17\, 2017\, adopted a 6 -month moratorium within the Tukwila International Boulevard study area in the City of Tukwila on the development of certain uses such as hotels\, motels\, extended -stay facilities\, or auto -oriented uses and set the date of September 5\, 2017 for a public hearing to take public testimony and consider adopting further findings.\n\n\n\nAll interested persons are invited to be present to voice approval\, disapproval\, or opinions on this issue. For those unable to attend in person\, you may submit written testimony to the City Clerk' s office until 5: 00 p.m. on the day of the meeting.\n\n\n\nTukwila City Hall is wheelchair accessible. The City strives to accommodate people with disabilities. Reasonable accommodations are available at the public hearing with advance notice. This notice is also available in alternate formats for individuals with disabilities. Please contact the City Clerk' s Office at TukwilaCityClerk@Tukwilawa. gov for assistance.\n\n\n\nChristy O' Flaherty\, MMC\, City Clerk
X-ALT-DESC;FMTTYPE=text/html:NOTICE IS HEREBY GIVEN that the Tukwila City Council will hold a public hearing on Tuesday\, September 5\, 2017 beginning at 7: 00 p. m. in the Council Chambers at Tukwila City Hall\, 6200 Southcenter Blvd.\, Tukwila\, WA to consider the following:<br />\n<br />\nOrdinance 42453\, passed July 17\, 2017\, adopted a 6 -month moratorium within the Tukwila International Boulevard study area in the City of Tukwila on the development of certain uses such as hotels\, motels\, extended -stay facilities\, or auto -oriented uses and set the date of September 5\, 2017 for a public hearing to take public testimony and consider adopting further findings.<br />\n<br />\nAll interested persons are invited to be present to voice approval\, disapproval\, or opinions on this issue. For those unable to attend in person\, you may submit written testimony to the City Clerk&#39\; s office until 5: 00 p.m. on the day of the meeting.<br />\n<br />\nTukwila City Hall is wheelchair accessible. The City strives to accommodate people with disabilities. Reasonable accommodations are available at the public hearing with advance notice. This notice is also available in alternate formats for individuals with disabilities. Please contact the City Clerk&#39\; s Office at TukwilaCityClerk@Tukwilawa. gov for assistance.<br />\n<br />\nChristy O&#39\; Flaherty\, MMC\, City Clerk
LOCATION:Council Chambers at Tukwila City Hall\, 6200 Southcenter Blvd.\, Tukwila\, WA
UID:e.2591.861
SEQUENCE:3
DTSTAMP:20260425T183419Z
URL:http://seattlesouthsidechamber.com/events/details/city-of-tukwila-notice-of-public-hearing-861
END:VEVENT

END:VCALENDAR
