BEGIN:VCALENDAR
VERSION:2.0
PRODID:-//ChamberMaster//Event Calendar 2.0//EN
METHOD:PUBLISH
X-PUBLISHED-TTL:P3D
REFRESH-INTERVAL:P3D
CALSCALE:GREGORIAN
BEGIN:VEVENT
DTSTART:20180605T020000Z
DTEND:20180605T040000Z
X-MICROSOFT-CDO-ALLDAYEVENT:FALSE
SUMMARY:City of Tukwila Notice of Public Hearing
DESCRIPTION:CITY OF TUKWILA  NOTICE OF PUBLIC HEARING\n\nNotice is hereby given that the City of Tukwila City Council will hold a public hearing on June 4\, 2018 at 7:00 p.m. in the Council Chambers located at Tukwila City Hall\, 6200 Southcenter Blvd.\, Tukwila\, WA\, to discuss the following:\n\n\n\nPROPOSED COMPREHENSIVE PLAN/ZONING MAP CHANGE\n\nFILE NUMBER: PL16-0062\n\nProject Name: Vintage@Tukwila\n\nAPPLICANT: Mujib Kamawal\n\nREQUEST: Amend Comprehensive Plan and Zoning Maps designation of 14.78 acres on five undeveloped lots from Low Density Residential (LDR) and Commercial/Light Industrial to High Density Residential (HDR)\n\n\n\nLOCATION: Tax parcels:0323049050\, 3348401800\; 3348401810\; 3348401820\; 3348401860\; located to the west and behind 10739 and 10831 47th Avenue South in the Ryan Hill neighborhood\; generally bounded by South Ryan Way\, 47 Avenue South\, Seattle City Light Transmission line\, and Martin Luther King Jr. Way South. (Quasi-Judicial) Information on the above project may be obtained at the Tukwila Planning Division at 206-431-3670.\n\n\n\nAll interested persons are invited to be present to voice approval\, disapproval\, or opinions on this issue. For those unable to attend in person\, you may submit written testimony to the City Clerk's office until 5:00 p.m. on the day of the meeting. Tukwila City Hall is wheelchair accessible. The City strives to accommodate people with disabilities. Reasonable accommodations are available at the public hearing with advance notice.\n\n\n\nThis notice is also available in alternate formats for individuals with disabilities.\n\n\n\nPlease contact the City Clerk's Office at TukwilaCityClerk@Tukwilawa.gov for assistance.\n\n\n\nChristy O'Flaherty\, MMC\, City Clerk\n\nPublished: Seattle Times   May 21\, 2018
X-ALT-DESC;FMTTYPE=text/html:CITY OF TUKWILA&nbsp\; NOTICE OF PUBLIC HEARING<br />\nNotice is hereby given that the City of Tukwila City Council will hold a public hearing on June 4\, 2018 at 7:00 p.m. in the Council Chambers located at Tukwila City Hall\, 6200 Southcenter Blvd.\, Tukwila\, WA\, to discuss the following:<br />\n<br />\nPROPOSED COMPREHENSIVE PLAN/ZONING MAP CHANGE<br />\nFILE NUMBER: PL16-0062<br />\nProject Name: Vintage@Tukwila<br />\nAPPLICANT: Mujib Kamawal<br />\nREQUEST: Amend Comprehensive Plan and Zoning Maps designation of 14.78 acres on five undeveloped lots from Low Density Residential (LDR) and Commercial/Light Industrial to High Density Residential (HDR)<br />\n<br />\nLOCATION: Tax parcels:0323049050\, 3348401800\; 3348401810\; 3348401820\; 3348401860\; located to the west and behind 10739 and 10831 47th Avenue South in the Ryan Hill neighborhood\; generally bounded by South Ryan Way\, 47 Avenue South\, Seattle City Light Transmission line\, and Martin Luther King Jr. Way South. (Quasi-Judicial) Information on the above project may be obtained at the Tukwila Planning Division at 206-431-3670.<br />\n<br />\nAll interested persons are invited to be present to voice approval\, disapproval\, or opinions on this issue. For those unable to attend in person\, you may submit written testimony to the City Clerk&rsquo\;s office until 5:00 p.m. on the day of the meeting. Tukwila City Hall is wheelchair accessible. The City strives to accommodate people with disabilities. Reasonable accommodations are available at the public hearing with advance notice.<br />\n<br />\nThis notice is also available in alternate formats for individuals with disabilities.<br />\n<br />\nPlease contact the City Clerk&rsquo\;s Office at TukwilaCityClerk@Tukwilawa.gov for assistance.<br />\n<br />\nChristy O&rsquo\;Flaherty\, MMC\, City Clerk<br />\nPublished: Seattle Times &ndash\; May 21\, 2018
LOCATION:
UID:e.2591.2112
SEQUENCE:3
DTSTAMP:20260425T012801Z
URL:http://seattlesouthsidechamber.com/events/details/city-of-tukwila-notice-of-public-hearing-2112
END:VEVENT

END:VCALENDAR
