BEGIN:VCALENDAR
VERSION:2.0
PRODID:-//ChamberMaster//Event Calendar 2.0//EN
METHOD:PUBLISH
X-PUBLISHED-TTL:P3D
REFRESH-INTERVAL:P3D
CALSCALE:GREGORIAN
BEGIN:VEVENT
DTSTART:20171013T020000Z
DTEND:20171013T040000Z
X-MICROSOFT-CDO-ALLDAYEVENT:FALSE
SUMMARY:City of Tukwila Notice of Public Hearing
DESCRIPTION:CITY OF TUKWILA NOTICE OF PUBLIC HEARING\n\n \n\nNOTICE IS HEREBY GIVEN that the Tukwila City Council will hold a public hearing on Monday\, November 13\, 2017 beginning at 7:00 p.m. in the Council Chambers at Tukwila City Hall\, 6200 Southcenter Blvd.\, Tukwila\, WA to consider the following:\n\n \n\nAN ORDINANCE AMENDING ORDINANCE NO. 2515\, WHICH ADOPTED THE CITY OF TUKWILA'S BIENNIAL BUDGET FOR THE 2017-2018 BIENNIUM\, TO ADOPT AN AMENDED MID-BIENNIUM BUDGET\; PROVIDING FOR SEVERABILITY\; AND ESTABLISHING AN EFFECTIVE DATE.\n\n \n\nPer RCW 35A.34. l 00\, the preliminary budget for the ensuing fiscal biennium has been filed with the Clerk and a copy thereof will be made available to any taxpayer  who will call at the  Clerk's  Office.\n\n \n\nAll interested persons are invited to be present to voice approval\, disapproval\, or opinions on this issue. For those unable to attend in person\, you may submit written  testimony  to the City Clerk's  office until 5:00 p.m. on the day of the meeting.\n\n \n\nTukwila City Hall is wheelchair accessible. The City strives to accommodate people with disabilities. Reasonable  accommodations are available  at the public hearing with advance notice.  This notice is also available in alternate formats for individuals with disabilities.  Please contact  the City Clerk's Office  at  TukwilaCityClerk@Tukwilawa.gov for assistance.\n\n \n\nChristy O'Flaherty\,  MMC\,  City Clerk\n\n \n\nPublished:   Seattle Times October  30\, 2017 and November 6\,  2017
X-ALT-DESC;FMTTYPE=text/html:<p>CITY OF TUKWILA NOTICE OF PUBLIC HEARING</p>\n\n<p>&nbsp\;<br />\nNOTICE IS HEREBY GIVEN that the Tukwila City Council will hold a public hearing on Monday\, November 13\, 2017 beginning at 7:00 p.m. in the Council Chambers at Tukwila City Hall\, 6200 Southcenter Blvd.\, Tukwila\, WA to consider the following:<br />\n&nbsp\;</p>\n\n<p style="text-align: justify\; line-height: 106%\;">AN ORDINANCE AMENDING ORDINANCE NO. 2515\, WHICH ADOPTED THE CITY OF TUKWILA&#39\;S BIENNIAL BUDGET FOR THE 2017-2018 BIENNIUM\, TO ADOPT AN AMENDED MID-BIENNIUM BUDGET\; PROVIDING FOR SEVERABILITY\; AND ESTABLISHING AN EFFECTIVE DATE.</p>\n\n<p>&nbsp\;<br />\nPer RCW 35A.34. l 00\, the preliminary budget for the ensuing fiscal biennium has been filed with the Clerk and a copy thereof will be made available to any taxpayer&nbsp\; who will call at the&nbsp\; Clerk&#39\;s&nbsp\; Office.<br />\n&nbsp\;<br />\nAll interested persons are invited to be present to voice approval\, disapproval\, or opinions on this issue. For those unable to attend in person\, you may submit written&nbsp\; testimony&nbsp\; to the City Clerk&#39\;s&nbsp\; office until 5:00 p.m. on the day of the meeting.<br />\n&nbsp\;<br />\nTukwila City Hall is wheelchair accessible. The City strives to accommodate people with disabilities. Reasonable&nbsp\; accommodations are available&nbsp\; at the public hearing with advance notice.&nbsp\; This notice is also available in alternate formats for individuals with disabilities.&nbsp\; Please contact&nbsp\; the City Clerk&#39\;s Office&nbsp\; at&nbsp\; <a href="mailto:TukwilaCityClerk@Tukwilawa.gov"><span style="text-decoration-line:none\;"><span style="color:windowtext\;">TukwilaCityClerk@Tukwilawa.gov </span></span></a>for assistance.<br />\n&nbsp\;<br />\nChristy O&#39\;Flaherty\,&nbsp\; MMC\,&nbsp\; City Clerk<br />\n&nbsp\;<br />\nPublished:&nbsp\;&nbsp\; Seattle Times October&nbsp\; 30\, 2017 and November 6\,&nbsp\; 2017</p>\n
LOCATION:
UID:e.2591.1002
SEQUENCE:3
DTSTAMP:20260425T153222Z
URL:http://seattlesouthsidechamber.com/events/details/city-of-tukwila-notice-of-public-hearing-1002
END:VEVENT

END:VCALENDAR
