BEGIN:VCALENDAR
VERSION:2.0
PRODID:-//ChamberMaster//Event Calendar 2.0//EN
METHOD:PUBLISH
X-PUBLISHED-TTL:P3D
REFRESH-INTERVAL:P3D
CALSCALE:GREGORIAN
BEGIN:VEVENT
DTSTART:20181023T020000Z
DTEND:20181023T040000Z
X-MICROSOFT-CDO-ALLDAYEVENT:FALSE
SUMMARY:City of Tukwila Notice of Public Hearing
DESCRIPTION:NOTICE IS HEREBY GIVEN that theTukwila City Council will hold a public hearing on Monday\,  October 22\, 2018 beginning at 7:00 p.m. in the Council Chambers at Tukwila City Hall\, 6200 Southcenter Blvd.\, Tukwila\, WA to consider the following:  \n\nAN ORDINANCE OF THE CITY COUNCIL OF THE CITY OF TUKWILA\,  WASHINGTON\, AMENDING VARIOUS ORDINANCES AND TABLE 18-6\, "LAND USES ALLOWED BY DISTRICT\," AS CODIFIED IN TITLE 18\, "ZONING\," OF THE TUKWILA MUNICIPAL CODE\, AND MODIFYING OFF-STREET PARKING REGULATIONS AS CODIFIED IN TUKWILA MUNICIPAL CODE CHAPTER 18.56\;  PROVIDING FOR SEVERABILITY\; DECLARING AN EMERGENCY AND ESTABLISHING AN EFFECTIVE DATE.  This ordinance involves Zoning Code amendments that allow stand-alone off-street parking are as for municipal offices and policestations as a conditional use in most zones and that clarify the location requirements for off-premises parking.   \n\nAll interested persons are invited to be present to voice approval\, disapproval\, or opinions on this issue.  For those unable to attend in person\, you may submit written testimony to the City Clerk's office until 5:00 p.m. on the day of the meeting.  \n\nTukwila City Hall is wheelchair accessible.  The City strives to accommodate people with disabilities.  Reasonable accommodations are available at the public hearing with advance notice.   This notice is also available in alternate formats for individuals with disabilities.  Please contact the City Clerk's Office at TukwilaCityClerk@Tukwilawa.gov for assistance.  \n\nChristy O'Flaherty\, MMC\, Records Governance Manager/CityClerk
X-ALT-DESC;FMTTYPE=text/html:NOTICE IS HEREBY GIVEN that theTukwila City Council will hold a public hearing on Monday\,&nbsp\; October 22\, 2018 beginning at 7:00 p.m. in the Council Chambers at Tukwila City Hall\, 6200 Southcenter Blvd.\, Tukwila\, WA to consider the following:&nbsp\;&nbsp\;<br />\nAN ORDINANCE OF THE CITY COUNCIL OF THE CITY OF TUKWILA\,&nbsp\; WASHINGTON\, AMENDING VARIOUS ORDINANCES AND TABLE 18-6\, &ldquo\;LAND USES ALLOWED BY DISTRICT\,&rdquo\; AS CODIFIED IN TITLE 18\, &ldquo\;ZONING\,&rdquo\; OF THE TUKWILA MUNICIPAL CODE\, AND MODIFYING OFF-STREET PARKING REGULATIONS AS CODIFIED IN TUKWILA MUNICIPAL CODE CHAPTER 18.56\;&nbsp\; PROVIDING FOR SEVERABILITY\; DECLARING AN EMERGENCY AND ESTABLISHING AN EFFECTIVE DATE.&nbsp\; This ordinance involves Zoning Code amendments that allow stand-alone off-street parking are as for municipal offices and policestations as a conditional use in most zones and that clarify the location requirements for off-premises parking.&nbsp\; &nbsp\;<br />\nAll interested persons are invited to be present to voice approval\, disapproval\, or opinions on this issue.&nbsp\; For those unable to attend in person\, you may submit written testimony to the City Clerk&rsquo\;s office until 5:00 p.m. on the day of the meeting.&nbsp\;&nbsp\;<br />\nTukwila City Hall is wheelchair accessible.&nbsp\; The City strives to accommodate people with disabilities.&nbsp\; Reasonable accommodations are available at the public hearing with advance notice.&nbsp\; &nbsp\;This notice is also available in alternate formats for individuals with disabilities.&nbsp\; Please contact the City Clerk&rsquo\;s Office at TukwilaCityClerk@Tukwilawa.gov for assistance.&nbsp\;&nbsp\;<br />\nChristy O&rsquo\;Flaherty\, MMC\, Records Governance Manager/CityClerk
LOCATION:Tukwila City Hall\, 6200 Southcenter Blvd.\, Tukwila\, WA
UID:e.2591.2568
SEQUENCE:3
DTSTAMP:20260424T185936Z
URL:http://seattlesouthsidechamber.com/events/details/city-of-tukwila-notice-of-public-hearing-10-08-2018-2568
END:VEVENT

END:VCALENDAR
