BEGIN:VCALENDAR
VERSION:2.0
PRODID:-//ChamberMaster//Event Calendar 2.0//EN
METHOD:PUBLISH
X-PUBLISHED-TTL:P3D
REFRESH-INTERVAL:P3D
CALSCALE:GREGORIAN
BEGIN:VEVENT
DTSTART:20171107T030000Z
DTEND:20171107T050000Z
X-MICROSOFT-CDO-ALLDAYEVENT:FALSE
SUMMARY:City of Tukwila Notice of Final Action
DESCRIPTION:NOTICE IS HEREBY GIVEN that the Tukwila City Council that final action on\n\nMonday\, November 6\, 2017 beginning at 7:00 p.m. in the Council Chambers at Tukwila City Hall\, 6200 Southcenter Blvd.\, Tukwila\, WA on the following:\n\n \n\nAN ORDINANCE OF THE CITY COUNCIL OF THE CITY OF TUKWILA\, WASHINGTON\, AUTHORIZING AND PROVIDING FOR THE ACQUISITION OF INTERESTS IN LAND FOR THE PURPOSE OF COMPLETING THE PUBLIC SAFETY PLAN PROJECTS\, PROVIDING FOR CONDEMNATION\, APPROPRIATION\, TAKING OF LAND AND PROPERTY RIGHTS NECESSARY THEREFOR\; PROVIDING FOR PAYMENT THEREOF AND DIRECTING THE INITIATION OF APPROPRIATE PROCEEDINGS IN THE MANNER PROVIDED BY LAW AND FOR SAID CONDEMNATION\; PROVIDING FOR SEVERABILITY\; AND ESTABLISHING AN EFFECTIVE DATE.\n\n\n\nLocations:\n\nFor the Justice Center:\nParcel Number               Address\n\n0041000515                   N/A\n\n0041000514                   15006   MILITARY   RDS\n\n0041000480                   15022 MILITARY RDS 98188\n\n0041000494                   15030 MILITARY RDS 98188\n\n0041000513                   15029 TUKWILA INTERNATIONAL BLVD 98188\n\n0041000516                   15015 TUKWILA INTERNATIONAL BLVD 98188\n\n0041000517                   15001 TUKWILA INTERNATIONAL BLVD 98188\n\n0041000335                   14845   INTERNATIONAL    BLVD  98168\n\n0041000330                   14835 TUKWILA INTERNATIONAL BLVD 98168\n\nFor Fire Station 54:\nParcel Number               Address\n\n1523049263                   13916 42ND AVES 98168\n\nFor the Public Works Facility:\n\nParcel Number               Address\n\n0923049411                   11234 TUKWILA INTERNATIONAL BLVD 98168\n\n0923049152                   11210 TUKWILA INTERNATIONAL BLVD 98168\n\n1023049059                   11231 EAST MARGINAL WAYS 98168\n \n\nThe public is invited to attend all meetings of theTukwila City Council. All interested persons are invited to be present to voice approval\, disapproval\, or opinions on this issue. Tukwila City Hall is wheelchair accessible. The City strives to accommodate people with disabilities. Reasonable accommodations are available at the meeting with advanced notice. This notice is also available in alternate formats for individuals with disabilities. Please contact the City Clerk's Office at TukwilaCityClerk@TukwilaWa.gov for assistance.\n\n \n\nChristy O'Flaherty\, MMC\, City Clerk
X-ALT-DESC;FMTTYPE=text/html:<span style="font-size:16px\;"><span style="font-family:tahoma\;">NOTICE IS HEREBY GIVEN that the Tukwila City Council that final&nbsp\;action on<br />\n<strong>Monday\, November 6\, 2017 </strong>beginning at 7:00 p.m. in the <span style="letter-spacing:-1.1pt\;">Council </span>Chambers at Tukwila City Hall\, 6200 Southcenter Blvd.\, Tukwila\, WA on the following:<br />\n&nbsp\;<br />\nAN ORDINANCE OF THE CITY COUNCIL OF THE CITY OF <span style="letter-spacing:-1.1pt\;">TUKWILA\, </span>WASHINGTON\, AUTHORIZING AND PROVIDING FOR THE ACQUISITION OF INTERESTS IN LAND FOR THE PURPOSE OF COMPLETING THE PUBLIC SAFETY PLAN PROJECTS\, PROVIDING FOR CONDEMNATION\, APPROPRIATION\, TAKING OF LAND AND PROPERTY RIGHTS NECESSARY THEREFOR\; PROVIDING FOR PAYMENT THEREOF AND DIRECTING THE INITIATION OF APPROPRIATE PROCEEDINGS IN THE MANNER PROVIDED BY LAW AND FOR SAID CONDEMNATION\; PROVIDING FOR SEVERABILITY\; AND ESTABLISHING AN EFFECTIVE DATE.<br />\n<br />\nLocations:</span></span>\n\n<h1 style="margin-top:.4pt\;"><span style="font-size:16px\;"><span style="font-family:tahoma\;">For the Justice Center:</span></span></h1>\n<span style="font-size:16px\;"><span style="font-family:tahoma\;">Parcel Number&nbsp\;&nbsp\;&nbsp\;&nbsp\;&nbsp\;&nbsp\;&nbsp\;&nbsp\;&nbsp\;&nbsp\;&nbsp\;&nbsp\;&nbsp\;&nbsp\; Address<br />\n<span style="letter-spacing:-.05pt\;">0041000515&nbsp\;&nbsp\;&nbsp\;&nbsp\;&nbsp\;&nbsp\;&nbsp\;&nbsp\;&nbsp\;&nbsp\;&nbsp\;&nbsp\;&nbsp\;&nbsp\;&nbsp\;&nbsp\;&nbsp\;&nbsp\; N/A</span><br />\n0041000514&nbsp\;&nbsp\;&nbsp\;&nbsp\;&nbsp\;&nbsp\;&nbsp\;&nbsp\;&nbsp\;&nbsp\;&nbsp\;&nbsp\;&nbsp\;&nbsp\;&nbsp\;&nbsp\;&nbsp\;&nbsp\; 15006&nbsp\;&nbsp\; MILITARY&nbsp\; &nbsp\;RDS<br />\n0041000480&nbsp\;&nbsp\;&nbsp\;&nbsp\;&nbsp\;&nbsp\;&nbsp\;&nbsp\;&nbsp\;&nbsp\;&nbsp\;&nbsp\;&nbsp\;&nbsp\;&nbsp\;&nbsp\;&nbsp\;&nbsp\; 15022 MILITARY RDS 98188<br />\n0041000494&nbsp\;&nbsp\;&nbsp\;&nbsp\;&nbsp\;&nbsp\;&nbsp\;&nbsp\;&nbsp\;&nbsp\;&nbsp\;&nbsp\;&nbsp\;&nbsp\;&nbsp\;&nbsp\;&nbsp\;&nbsp\; 15030 MILITARY RDS 98188<br />\n0041000513&nbsp\;&nbsp\;&nbsp\;&nbsp\;&nbsp\;&nbsp\;&nbsp\;&nbsp\;&nbsp\;&nbsp\;&nbsp\;&nbsp\;&nbsp\;&nbsp\;&nbsp\;&nbsp\;&nbsp\;&nbsp\; 15029 TUKWILA INTERNATIONAL BLVD 98188<br />\n0041000516&nbsp\;&nbsp\;&nbsp\;&nbsp\;&nbsp\;&nbsp\;&nbsp\;&nbsp\;&nbsp\;&nbsp\;&nbsp\;&nbsp\;&nbsp\;&nbsp\;&nbsp\;&nbsp\;&nbsp\;&nbsp\; 15015 TUKWILA INTERNATIONAL BLVD 98188<br />\n0041000517&nbsp\;&nbsp\;&nbsp\;&nbsp\;&nbsp\;&nbsp\;&nbsp\;&nbsp\;&nbsp\;&nbsp\;&nbsp\;&nbsp\;&nbsp\;&nbsp\;&nbsp\;&nbsp\;&nbsp\;&nbsp\; 15001 TUKWILA INTERNATIONAL BLVD 98188<br />\n0041000335&nbsp\;&nbsp\;&nbsp\;&nbsp\;&nbsp\;&nbsp\;&nbsp\;&nbsp\;&nbsp\;&nbsp\;&nbsp\;&nbsp\;&nbsp\;&nbsp\;&nbsp\;&nbsp\;&nbsp\;&nbsp\; 14845&nbsp\;&nbsp\; INTERNATIONAL&nbsp\;&nbsp\;&nbsp\; BLVD&nbsp\; 98168<br />\n0041000330&nbsp\;&nbsp\;&nbsp\;&nbsp\;&nbsp\;&nbsp\;&nbsp\;&nbsp\;&nbsp\;&nbsp\;&nbsp\;&nbsp\;&nbsp\;&nbsp\;&nbsp\;&nbsp\;&nbsp\;&nbsp\; 14835 TUKWILA INTERNATIONAL BLVD 98168</span></span>\n\n<h1><span style="font-size:16px\;"><span style="font-family:tahoma\;">For Fire Station 54:</span></span></h1>\n<span style="font-size:16px\;"><span style="font-family:tahoma\;">Parcel Number&nbsp\;&nbsp\;&nbsp\;&nbsp\;&nbsp\;&nbsp\;&nbsp\;&nbsp\;&nbsp\;&nbsp\;&nbsp\;&nbsp\;&nbsp\;&nbsp\; Address<br />\n1523049263&nbsp\;&nbsp\;&nbsp\;&nbsp\;&nbsp\;&nbsp\;&nbsp\;&nbsp\;&nbsp\;&nbsp\;&nbsp\;&nbsp\;&nbsp\;&nbsp\;&nbsp\;&nbsp\;&nbsp\;&nbsp\; 13916 42ND AVES 98168</span></span>\n\n<h1><span style="font-size:16px\;"><span style="font-family:tahoma\;">For the Public Works Facility:</span></span></h1>\n\n<h1 style="margin-top:.4pt\;"><span style="font-size:16px\;"><span style="font-family:tahoma\;">Parcel Number&nbsp\;&nbsp\;&nbsp\;&nbsp\;&nbsp\;&nbsp\;&nbsp\;&nbsp\;&nbsp\;&nbsp\;&nbsp\;&nbsp\;&nbsp\;&nbsp\; Address<br />\n0923049411&nbsp\;&nbsp\;&nbsp\;&nbsp\;&nbsp\;&nbsp\;&nbsp\;&nbsp\;&nbsp\;&nbsp\;&nbsp\;&nbsp\;&nbsp\;&nbsp\;&nbsp\;&nbsp\;&nbsp\;&nbsp\; 11234 TUKWILA INTERNATIONAL BLVD 98168<br />\n0923049152&nbsp\;&nbsp\;&nbsp\;&nbsp\;&nbsp\;&nbsp\;&nbsp\;&nbsp\;&nbsp\;&nbsp\;&nbsp\;&nbsp\;&nbsp\;&nbsp\;&nbsp\;&nbsp\;&nbsp\;&nbsp\; 11210 TUKWILA INTERNATIONAL BLVD 98168<br />\n1023049059&nbsp\;&nbsp\;&nbsp\;&nbsp\;&nbsp\;&nbsp\;&nbsp\;&nbsp\;&nbsp\;&nbsp\;&nbsp\;&nbsp\;&nbsp\;&nbsp\;&nbsp\;&nbsp\;&nbsp\;&nbsp\; 11231 EAST MARGINAL WAYS 98168</span></span></h1>\n<span style="font-size:16px\;"><span style="font-family:tahoma\;">&nbsp\;<br />\nThe public is invited to attend all meetings of theTukwila&nbsp\;City Council. All interested persons are invited to be present to voice approval\, disapproval\, or opinions on this issue. Tukwila City Hall is wheelchair accessible. The City strives to accommodate people with disabilities. Reasonable accommodations are available at the meeting with advanced notice. This notice is also available in alternate formats for individuals with disabilities. Please contact the City Clerk&#39\;s Office at <a href="mailto:TukwilaCityClerk@TukwilaWa.gov"><span style="text-decoration-line:none\;"><span style="color:windowtext\;">TukwilaCityClerk@TukwilaWa.gov </span></span></a>for assistance.<br />\n&nbsp\;<br />\nChristy O&#39\;Flaherty\, MMC\, City Clerk<br />\n&nbsp\;</span></span><br />\n&nbsp\;
LOCATION:
UID:e.2591.998
SEQUENCE:3
DTSTAMP:20260425T134354Z
URL:http://seattlesouthsidechamber.com/events/details/city-of-tukwila-notice-of-final-action-998
END:VEVENT

END:VCALENDAR
