BEGIN:VCALENDAR
VERSION:2.0
PRODID:-//ChamberMaster//Event Calendar 2.0//EN
METHOD:PUBLISH
X-PUBLISHED-TTL:P3D
REFRESH-INTERVAL:P3D
CALSCALE:GREGORIAN
BEGIN:VEVENT
DTSTART:20170606T020000Z
DTEND:20170606T030000Z
X-MICROSOFT-CDO-ALLDAYEVENT:FALSE
SUMMARY:City of Tukwila Notice of Final Action
DESCRIPTION:NOTICE OF FINAL ACTION\n\n\n\nNOTICE IS HEREBY GIVEN that the Tukwila City Council is considering final action on Monday June 5 2017 beginning at 7 00 p m in the Council Chambers at Tukwila City Hall 6200 Southcenter Blvd Tukwila WA on the following:\n\n\n\nAN ORDINANCE OF THE CITY COUNCIL OF THE CITY OF TUKWILA WASHINGTON AUTHORIZING AND PROVIDING FOR THE ACQUISITION OF INTERESTS IN LAND FOR THE PURPOSE OF COMPLETING THE CHINOOK WIND PROJECT PROVIDING FOR CONDEMNATION APPROPRIATION TAKING OF LAND AND PROPERTY RIGHTS NECESSARY THEREFORE PROVIDING FOR PAYMENT THEREOF AND DIRECTING THE INITIATION OF APPROPRIATE PROCEEDINGS IN THE MANNER PROVIDED BY LAW AND FOR SAID CONDEMNATION PROVIDING FOR SEVERABILITY AND ESTABLISHING AN EFFECTIVE DATE./\n\n\n\n(Locations: The property being considered is located in the City of Tukwila and identified as parcel numbers 1023049059 at 11231 East Marginal Way S\n\n\n\nThe public is invited to attend all meetings of the Tukwila City Council. All interested persons are invited to be present to voice approval disapproval or opinions on this issue Tukwila City Hall is wheelchair accessible The City strives to accommodate people with disabilities Reasonable accommodations are available at the meeting with advanced notice This notice is also available in alternate formats for individuals with disabilities Please contact the City Clerk s Office at TukwilaCityClerk@TukwilaWa gov for assistance\n\n\n\nChristy O Flaherty MMC City Clerk
X-ALT-DESC;FMTTYPE=text/html:NOTICE OF FINAL ACTION<br />\n<br />\nNOTICE IS HEREBY GIVEN that the Tukwila City Council is considering final action on Monday June 5 2017 beginning at 7 00 p m in the Council Chambers at Tukwila City Hall 6200 Southcenter Blvd Tukwila WA on the following:<br />\n<br />\nAN ORDINANCE OF THE CITY COUNCIL OF THE CITY OF TUKWILA WASHINGTON AUTHORIZING AND PROVIDING FOR THE ACQUISITION OF INTERESTS IN LAND FOR THE PURPOSE OF COMPLETING THE CHINOOK WIND PROJECT PROVIDING FOR CONDEMNATION APPROPRIATION TAKING OF LAND AND PROPERTY RIGHTS NECESSARY THEREFORE PROVIDING FOR PAYMENT THEREOF AND DIRECTING THE INITIATION OF APPROPRIATE PROCEEDINGS IN THE MANNER PROVIDED BY LAW AND FOR SAID CONDEMNATION PROVIDING FOR SEVERABILITY AND ESTABLISHING AN EFFECTIVE DATE./<br />\n<br />\n(Locations: The property being considered is located in the City of Tukwila and identified as parcel numbers 1023049059 at 11231 East Marginal Way S<br />\n<br />\nThe public is invited to attend all meetings of the Tukwila City Council. All interested persons are invited to be present to voice approval disapproval or opinions on this issue Tukwila City Hall is wheelchair accessible The City strives to accommodate people with disabilities Reasonable accommodations are available at the meeting with advanced notice This notice is also available in alternate formats for individuals with disabilities Please contact the City Clerk s Office at TukwilaCityClerk@TukwilaWa gov for assistance<br />\n<br />\nChristy O Flaherty MMC City Clerk
LOCATION:Council Chambers Tukwila City Hall 6200 Southcenter Blvd
UID:e.2591.779
SEQUENCE:3
DTSTAMP:20260425T232326Z
URL:http://seattlesouthsidechamber.com/events/details/city-of-tukwila-notice-of-final-action-779
END:VEVENT

END:VCALENDAR
