BEGIN:VCALENDAR
VERSION:2.0
PRODID:-//ChamberMaster//Event Calendar 2.0//EN
METHOD:PUBLISH
X-PUBLISHED-TTL:P3D
REFRESH-INTERVAL:P3D
CALSCALE:GREGORIAN
BEGIN:VEVENT
DTSTART:20190412T013000Z
DTEND:20190412T040000Z
X-MICROSOFT-CDO-ALLDAYEVENT:FALSE
SUMMARY:City of Tukwila Critical Areas Regulations Public Hearing
DESCRIPTION:The City of Tukwila is accepting comments on a periodic review of the City's critical areas regulations. Planning Commission will hold a public hearing on April 11th at 6:30 pm in City Council Chambers 6200 Southcenter Blvd\, Tukwila WA 98188. If you want to be informed about progress on these code updates\, please send an email or call. Future notices on this update will only be sent to interested parties list.\n\n\n\nTo learn more about the proposed amendments\n\nvisit www.TukwilaWA.gov/CriticalAreas or call Minnie Dhaliwal:206-431-3685\n\n\n\nPublic comments can be submitted via email or postal mail and must be received by 5 pm on April 10th. You can also submit comments in person at the public hearing. Email comments to: Criticalareas@TukwilaWA.gov\n\n\n\nOr mail to:\n\nCity of Tukwila\n\nAttn: Minnie Dhaliwal\n\n6300 Southcenter Blvd Ste 100\n\nTukwila\, WA 98188
X-ALT-DESC;FMTTYPE=text/html:The City of Tukwila is accepting comments on a periodic review of the City&rsquo\;s critical areas regulations. Planning Commission will hold a public hearing on April 11th at 6:30 pm in City Council Chambers 6200 Southcenter Blvd\, Tukwila WA 98188. If you want to be informed about progress on these code updates\, please send an email or call. Future notices on this update will only be sent to interested parties list.<br />\n<br />\nTo learn more about the proposed amendments<br />\nvisit www.TukwilaWA.gov/CriticalAreas or call Minnie Dhaliwal:206-431-3685<br />\n<br />\nPublic comments can be submitted via email or postal mail and must be received by 5 pm on April 10th. You can also submit comments in person at the public hearing.&nbsp\;Email comments to: Criticalareas@TukwilaWA.gov<br />\n<br />\nOr mail to:<br />\nCity of Tukwila<br />\nAttn: Minnie Dhaliwal<br />\n6300 Southcenter Blvd Ste 100<br />\nTukwila\, WA 98188
LOCATION:April 11th at 6:30 pm City Council Chambers 6200 Southcenter Blvd\, Tukwila WA 98188
UID:e.2591.2895
SEQUENCE:3
DTSTAMP:20260424T093957Z
URL:http://seattlesouthsidechamber.com/events/details/city-of-tukwila-critical-areas-regulations-public-hearing-2895
END:VEVENT

END:VCALENDAR
